BEGIN:VCALENDAR
VERSION:2.0
PRODID:-//wp-events-plugin.com//7.2.3.1//EN
BEGIN:VEVENT
UID:45@synagoge-ahrweiler.eu
DTSTART:20190904T180000Z
DTEND:20190904T180000Z
DTSTAMP:20190802T152750Z
URL:https://synagoge-ahrweiler.eu/events/wochenspiegel-ahrtalforum/
SUMMARY:Wochenspiegel-Ahrtalforum
DESCRIPTION:Zahnimplantate Dr. Arndt Kompetenzcentrum Zahnmedizin
END:VEVENT
END:VCALENDAR