BEGIN:VCALENDAR
VERSION:2.0
PRODID:-//wp-events-plugin.com//7.2.3.1//EN
BEGIN:VEVENT
UID:50@synagoge-ahrweiler.eu
DTSTART:20191106T180000Z
DTEND:20191106T180000Z
DTSTAMP:20190802T153121Z
URL:https://synagoge-ahrweiler.eu/events/wochenspiegel-ahrtal-forum/
SUMMARY:Wochenspiegel-Ahrtal-Forum
DESCRIPTION:Gesundheit und Lebensqualität
END:VEVENT
END:VCALENDAR