BEGIN:VCALENDAR
VERSION:2.0
PRODID:-//wp-events-plugin.com//7.2.3.1//EN
BEGIN:VEVENT
UID:65@synagoge-ahrweiler.eu
DTSTART:20200313T180000Z
DTEND:20200313T180000Z
DTSTAMP:20191223T111656Z
URL:https://synagoge-ahrweiler.eu/events/villa-musica/
SUMMARY:Villa Musica: Beethoven in der Synagoge Ahrweiler (Boris Garlitsky 
 spielt mit jungen Streichern)
DESCRIPTION:Das Beethovenjahr 2020 macht dank Villa Musica auch in der Syna
 goge Ahrweiler Station:\n\nAm Freitag\, 13. März\, 19 Uhr spielt der Pari
 ser Geigenprofessor Boris Garlitsky mit jungen Streichern der Villa Musica
  ein sehr selten zu hörendes Quartett: Beethovens eigene Bearbeitung der 
 Klaviersonate F-Dur\, op. 14 Nr. 1. Der Meister war besonders stolz auf di
 eses geglückte Arrangement\, das aber von professionellen Streichquartett
 en kaum aufgeführt wird. Bei Boris Garlitsky\, dem langjährigen Konzertm
 eister des London Philharmonic Orchestra und Professor am Pariser Conserva
 toire\, ist es in besten Händen.   Die erste Hälfte des Programms ist 
 drei großen jüdischen Komponisten gewidmet: Felix Mendelssohn ist mit se
 inen Vier Sätzen für Streichquartett vertreten\, einer Sammlung verschie
 dener Einzelsätze von berückender romantischer Schönheit. „Landscapes
 “\, „Landschaften“\, heißt das Streichquartett von Ernest Bloch\, d
 em „Vater der jüdischen Musik“ im 20. Jahrhundert. Zu den Opfern des 
 Naziterrors zählte der niederländische Komponist Leo Smit\, ein Impressi
 onist auf den Pfaden von Debussy und Ravel. Mit seinem wundervollen Streic
 hquartett erinnern die Musiker an den 1943 im KZ Sobibor ermordeten Kompon
 isten aus Amsterdam.\n\n&nbsp\;\n\nDie Tickets kosten 20 €. Schüler\, S
 tudenten und Schwerbehinderte erhalten an der Konzertkasse reduzierte Tick
 ets zu 8 oder 6 €. Vorverkauf in den Geschäftsstellen der Kreissparkass
 e\, bei Ticket Regional (www.ticket-regional.de) sowie bei Villa Musica in
  Mainz (06131 / 9251800\, www.villamusica.de).\n\n&nbsp\;
CATEGORIES:Konzert
END:VEVENT
END:VCALENDAR