BEGIN:VCALENDAR
VERSION:2.0
PRODID:-//wp-events-plugin.com//7.2.3.1//EN
BEGIN:VEVENT
UID:6@synagoge-ahrweiler.eu
DTSTART:20181018T190000Z
DTEND:20181018T190000Z
DTSTAMP:20180912T173053Z
URL:https://synagoge-ahrweiler.eu/events/vereinsinterne-veranstaltung/
SUMMARY:Vereinsinterne Veranstaltung
DESCRIPTION:
END:VEVENT
END:VCALENDAR