BEGIN:VCALENDAR
VERSION:2.0
PRODID:-//wp-events-plugin.com//7.2.3.1//EN
BEGIN:VEVENT
UID:10@synagoge-ahrweiler.eu
DTSTART;VALUE=DATE:20181207
DTEND;VALUE=DATE:20181230
DTSTAMP:20180912T181254Z
URL:https://synagoge-ahrweiler.eu/events/uferlichterkonzerte-2018/
SUMMARY:Uferlichterkonzerte 2018
DESCRIPTION:\n\n 	Fr.\, 07.12: Evangelischer Posaunenchor\, 17 Uhr\, Kurpar
 k\n 	Sa.\, 08.12: Orchester des Kreises AW\, 19.30\, Uhr Rathaussaal\n 	So
 .\, 09.12 MFC\, Rosenkranzkirche\n 	Fr.\, 14.12: Gordons Big Band\, 19.30 
 Uhr\, Theatersaal Augustinum\n 	Sa.\, 15.12: Gospelkonzert\, 18.00 Uhr\, M
 artin-Luther-Kirche\n 	So.\, 16.12: Gospelkonzert\, 17.00 Uhr\, Martin-Lut
 her-Kirche\n 	Fr.\, 21.12: 19.30 Uhrt Reel Bach Consort Willibrordus Kirch
 e\n 	Sa.\, 22.12: Hot Jazz Boys\, 19.30 Uhr\, Theatersaal Augustinum\n 	Do
 .\, 27.12 Gregor Schürer und Daniel im Steigenberger\n 	Fr.\, 28.12 Taize
 -Abend in der Martin-Luther-Kirche\n 	Sa.\, 29.12 RONDO Martin-Luther-Kirc
 he 18.30\n\nwww.uferlichter.de
END:VEVENT
END:VCALENDAR