BEGIN:VCALENDAR
VERSION:2.0
PRODID:-//wp-events-plugin.com//7.2.3.1//EN
BEGIN:VEVENT
UID:169@synagoge-ahrweiler.eu
DTSTART:20260322T150000Z
DTEND:20260322T170000Z
DTSTAMP:20260310T093754Z
URL:https://synagoge-ahrweiler.eu/events/tschidas-talente-singen-deutsch-r
 ock-pop-filmmusik-und-schlager-in-der-ehemaligen-synagoge-ahrweiler-2/
SUMMARY:Tschida‘s Talente singen Deutsch - Rock-Pop\, Filmmusik und Schla
 ger in der Ehemaligen Synagoge Ahrweiler
DESCRIPTION:Am Samstag\, den 21.03. um 18 Uhr und Sonntag\, den 22.03. um 1
 6 Uhr ist es mal wieder soweit:\nTschida‘s Talente singen in der Ehemali
 gen Synagoge in Ahrweiler.\nDiesmal hat sich Alexandra Tschida\, Sängerin
  und Gesangslehrerin etwas ganz Besonderes ausgedacht:\nAlle müssen auf D
 eutsch singen.\nDie Schüler*innen waren Anfangs nicht sonderlich begeiste
 rt\, denn sie bevorzugen in der Regel Englische Songs.\nAber Tschida gab n
 icht nach und freut sich\, dass sich ihre Talente auf ihre Idee eingelasse
 n haben und nun viele tolle deutsche Titel auf dem Programm stehen.\nDer E
 inlass beginnt jeweils eine halbe Stunde vorher.\nDer Eintritt ist wie imm
 er frei\, Spenden sind wie immer herzlich willkommen.\n\n
ATTACH;FMTTYPE=image/jpeg:https://synagoge-ahrweiler.eu/wp-content/uploads
 /2026/03/tschida-scaled.jpg
END:VEVENT
END:VCALENDAR