BEGIN:VCALENDAR
VERSION:2.0
PRODID:-//wp-events-plugin.com//7.2.3.1//EN
BEGIN:VEVENT
UID:22@synagoge-ahrweiler.eu
DTSTART:20190202T183000Z
DTEND:20190202T213000Z
DTSTAMP:20190110T152034Z
URL:https://synagoge-ahrweiler.eu/events/the-ocelots-in-planung/
SUMMARY:The Ocelots
DESCRIPTION:The Ocelots - das sind die beiden Zwillingsbrüder\nBrandon &am
 p\; Ashley Watson aus dem irischen Wexford. Eine kraftvolle Mischung aus r
 eichen Harmonien\,\nausdrucksstarken Stimmen und reinem akustischen Folk m
 it\nGitarre und Bluesharp - das ist die Musik der beiden noch sehr\njungen
  und hochtalentierten Musiker. In ihrem Heimatland und auf dem europäisch
 en\nKontinent haben sie bereits viele Fans gewonnen und es werden\nstetig 
 mehr. Bei ihren Live-Auftritten ziehen Brandon und\nAshley mit ihren Songt
 exten\, wundervollen Melodien und\nausdrucksstarken Stimmen und natürlich
  mit ihrem Charme das\nPublikum sofort in ihren Bann.\n\nThe Ocelots bezei
 chnen sich selbst als „Free Spirits“ – ihre\nYouTube-Videos sind ste
 ts live und „wie zufällig“ aufgenommen\n– in den Städten\, in dene
 n sie gerade spielen – unter Brücken\,\nan Rathäusern\, in Stadtparks
 … Mittlerweile sind sie jedoch\nauch auf immer größeren Bühnen zu Hau
 se – so unterstützten sie\nin 2017 auch Glen Hansard bei einigen seiner
 \nDeutschland-Konzerte und wurden von vielen begeisterten\nZuhörern als 
 „die“ Überraschung des Abends gefeiert. Ende Juli\n2018 geben sie bei
 m großen Tollwood-Festival in München den\nSupport für den genialen US-
 Singer/Songwriter Jack Johnson…\nder musikalische Weg der Ocelots führt
  steil nach oben!\n\nYouTube: The Ocelots:\n\n[embed]https://www.youtube.c
 om/watch?v=Um9AjU2V_b0[/embed]\nWebsite: http://www.theocelots.com/ Awards
  &amp\; Acknowledgements\n\n\n 	Irish Band of the Week – Dublin Concerts
 \n 	Top 5 Artists of the year – Cardinal Sessions Cologne\n 	Top Ten Art
 ists of the Summer – Lovin Dublin\n 	Top 10 acts to see at HWCH – The 
 Last Mixed Tape\n 	Irish Song of the Week - Nialler9\n 	Irish Song of the 
 Week - Irish Times\n
END:VEVENT
END:VCALENDAR