BEGIN:VCALENDAR
VERSION:2.0
PRODID:-//wp-events-plugin.com//7.2.3.1//EN
BEGIN:VEVENT
UID:46@synagoge-ahrweiler.eu
DTSTART:20190908T100000Z
DTEND:20190908T100000Z
DTSTAMP:20190827T162337Z
URL:https://synagoge-ahrweiler.eu/events/tag-des-offenen-denkmals/
SUMMARY:Tag des offenen Denkmals & duo felice
DESCRIPTION:Das größte Kulturevent Deutschlands ermöglicht in andere Wel
 ten einzutauchen und historische Stätten zu erkunden. Bundesweit werden T
 üren und Toren tausender Denkmäler für Interessierte geöffnet.\n\nDer 
 Bürgerverein Synagoge beteiligt sich am Tag des offenen Denkmals am 8. Se
 ptember ab 11\,00 Uhr mit Sonderführungen durch die ehemalige Synagoge in
  der Altenbaustrasse 12a in Ahrweiler und einem Matinee mit dem duo felice
  teilte der 1. Vorsitzende Thomas Rheindorf mit.\n\nDer Bürgerverein möc
 hte an diesem Tag \, so Geschäftsführer Rolf Deißler auch auf sich aufm
 erksam machen und neue Mitglieder für die Tätigkeit im Synagogenverein w
 erben.\n\nDas duo felice mit Alexandra Felizitas Tschida\, Opern- und Konz
 ertsängerin und Manfred Knoll als Pianist\, präsentieren Songs jüdische
 r Komponisten und Interpreten :\n\nTschida hat ihre Lieblingssongs von Geo
 rge Gershwin und Leonard Bernstein ausgesucht.\n\nAuch Lieder von Barbara 
 Streisand aus dem Film Yentl werden zu hören sein.\n\nDas „Hallelujah
 “ von Leonard Cohen darf natürlich nicht fehlen.\n\nEin besonderes High
 light für einen besonderen Tag.\n\n&nbsp\;\n\n
END:VEVENT
END:VCALENDAR