BEGIN:VCALENDAR
VERSION:2.0
PRODID:-//wp-events-plugin.com//7.2.3.1//EN
BEGIN:VEVENT
UID:130@synagoge-ahrweiler.eu
DTSTART:20240908T130000Z
DTEND:20240908T150000Z
DTSTAMP:20240626T181525Z
URL:https://synagoge-ahrweiler.eu/events/tag-des-offenen-denkmals-in-der-e
 hemaligen-synagoge-ahrweiler-vortrag/
SUMMARY:Tag des offenen Denkmals in der Ehemaligen Synagoge Ahrweiler - Vor
 trag
DESCRIPTION:Bad Neuenahr-Ahrweiler. Für den 8. September 2024 hat sich der
  Vorstand des Bürgervereins Ehemalige Synagoge Ahrweiler etwas Besonderes
  ausgedacht: Gleich drei Veranstaltungen stehen auf dem Programm. Um 11 Uh
 r wird Petra Schwarzkopf\, Schriftstellerin aus Bad Bodendorf\, ihr Jugend
 buch „Bombenstimmung“ vorstellen. Es ist bereits der 3. Band aus ihrer
  Serie „Detektei Anton“. Onkel Anton findet Munition aus dem Zweiten W
 eltkrieg im heimischen Wald und einen seltsamen Brief\, der die jugendlich
 en Detektive in die Geschichte der Jahre 1942 bis 1945 eintauchen lässt. 
 Ein spannendes Buch für Kinder ab 11 Jahren. Um 14 Uhr kommt Herr Avadiev
  von der Jüdischen Kultusgemeinde in Koblenz und hält einen Vortrag übe
 r das Jüdische Leben in seiner Gemeinde. Anschließend können Fragen ges
 tellt werden und es werden koschere Snacks angeboten. Um 17 Uhr spielt die
  Gruppe Easy Goin' Klezmer Musik. Michael Misterek\, Gitarren\, Mandoline 
 und Gesang\, Gunther Hellwig\, Saxophon\, Oboe\, Flöten und Gesang\, Walt
 er Rick\, Schlagzeug und Perkussion und Gastmusiker Johannes Solluch\, Vio
 line konzertierten bereits vor vielen Jahren in der Synagoge und unterstü
 tzten damals die Benefizkonzerte zum Erwerb des Synagogen Flügels. Es erw
 artet Sie ein toller unterhaltsamer und informativer Tag. Wir freuen uns a
 uf Ihr Kommen. Der Eintritt ist frei\, Spenden sind aber herzlich willkomm
 en. Gerne können Sie Mitglied im Synagogenverein werden und Veranstaltung
 en\, wie diese unterstützen.\n\n\n\n&nbsp\;\n\nAvadislav Avadiev:\nAvadis
 lav Avadiev ist Vorsitzender der jüdischen Kultusgemeinde Koblenz und zug
 leich seit über 10 Jahren Vorsitzender des Landesverbandes der jüdischen
  Gemeinden in Rheinland-Pfalz. Zum Landesverband – mit Sitz in Mainz –
  gehören die Gemeinden in Bad Kreuznach\, Speyer\, Koblenz\nund Trier. Di
 e jüdischen Gemeinden in Rheinland-Pfalz zählen rund 3000 Mitglieder. Qu
 elle: https://www.rhein-zeitung.de/region/rheinland-pfalz/landespolitik_ar
 tikel\,-vorsitzender-der-\njuedischen-gemeinden-im-interview-viele-glaeubi
 ge-in-rheinlandpfalz-sind-veraengstigt-  _arid\,2643125.html\n\nJüdische
  Kultusgemeinde Koblenz:\nDie Jüdische Kultusgemeinde Koblenz erstreckt s
 ich über die Stadt Koblenz sowie die Landkreise Mayen-Koblenz\, Cochem-Ze
 ll\, Rhein-Hunsrück\, Rhein-Lahn\, Westerwald\, Altenkirchen und Neuwied.
  Mit seinen Mitgliedern\, hauptsächlich ehemalige Kontingentflüchtlinge 
 aus den GUS-Staaten\, ist sie ein wichtiger Teil unserer Region. Die Gemei
 nde kümmert sich um über 100 jüdische Friedhöfe\, die fast alle unter 
 Denkmalschutz stehen. Die Kultusgemeinde ist nicht nur für den jüdischen
  Kultus und das Bestattungswesen zuständig\, sondern auch für die Fürso
 rge sowie Bildung\, Lehre und Unterhaltung. Sie bietet zugewanderten Mitgl
 iedern Unterstützung bei individuellen Herausforderungen. Das Miteinander
  wird durch regelmäßige verschiedene Aktivitäten im Gemeindesaal geför
 dert\, wie z.B. ein Schachclub\, Seniorentreff u. ä. Eine vielfältige Au
 swahl an Büchern zum Lesen und Ausleihen bietet darüber hinaus die eigen
 e\nBibliothek. Sonntags öffnet die Sonntagsschule ihre Türen für die j
 üngsten Gemeindemitglieder\, während ehrenamtliche pensionierte Lehrer D
 eutschunterricht für die Zugewanderten geben\, um deren  Deutschkenntnis
 se zu verbessern. Die Synagoge ist der Ort für die Freitagabend- und Sams
 tagmorgen-Gottesdienste sowie für weitere\nGottesdienste an jüdischen Fe
 iertagen.\n\nQuelle: https://www.koblenz.de/strukturierte-daten/stadtkultu
 r/juedische-kultus-gemeinde-\nkoblenz/\n\n&nbsp\;
ATTACH;FMTTYPE=image/jpeg:https://synagoge-ahrweiler.eu/wp-content/uploads
 /2024/06/1093415_1_gallerylarge_image_4e0024ee44a9bef9.jpg
CATEGORIES:Vortrag
END:VEVENT
END:VCALENDAR