BEGIN:VCALENDAR
VERSION:2.0
PRODID:-//wp-events-plugin.com//7.2.3.1//EN
BEGIN:VEVENT
UID:129@synagoge-ahrweiler.eu
DTSTART:20240908T100000Z
DTEND:20240908T110000Z
DTSTAMP:20240626T180110Z
URL:https://synagoge-ahrweiler.eu/events/tag-des-offenen-denkmals-in-der-e
 hemaligen-synagoge-ahrweiler-lesung/
SUMMARY:Tag des offenen Denkmals in der Ehemaligen Synagoge Ahrweiler - LES
 UNG
DESCRIPTION:Bad Neuenahr-Ahrweiler. Für den 8. September 2024 hat sich der
  Vorstand des Bürgervereins Ehemalige Synagoge Ahrweiler etwas Besonderes
  ausgedacht: Gleich drei Veranstaltungen stehen auf dem Programm. Um 11 Uh
 r wird Petra Schwarzkopf\, Schriftstellerin aus Bad Bodendorf\, ihr Jugend
 buch „Bombenstimmung“ vorstellen. Es ist bereits der 3. Band aus ihrer
  Serie „Detektei Anton“. Onkel Anton findet Munition aus dem Zweiten W
 eltkrieg im heimischen Wald und einen seltsamen Brief\, der die jugendlich
 en Detektive in die Geschichte der Jahre 1942 bis 1945 eintauchen lässt. 
 Ein spannendes Buch für Kinder ab 11 Jahren. Um 14 Uhr kommt Herr Avadiev
  von der Jüdischen Kultusgemeinde in Koblenz und hält einen Vortrag übe
 r das Jüdische Leben in seiner Gemeinde. Anschließend können Fragen ges
 tellt werden und es werden koschere Snacks angeboten. Um 17 Uhr spielt die
  Gruppe Easy Goin' Klezmer Musik. Michael Misterek\, Gitarren\, Mandoline 
 und Gesang\, Gunther Hellwig\, Saxophon\, Oboe\, Flöten und Gesang\, Walt
 er Rick\, Schlagzeug und Perkussion und Gastmusiker Johannes Solluch\, Vio
 line konzertierten bereits vor vielen Jahren in der Synagoge und unterstü
 tzten damals die Benefizkonzerte zum Erwerb des Synagogen Flügels. Es erw
 artet Sie ein toller unterhaltsamer und informativer Tag. Wir freuen uns a
 uf Ihr Kommen. Der Eintritt ist frei\, Spenden sind aber herzlich willkomm
 en. Gerne können Sie Mitglied im Synagogenverein werden und Veranstaltung
 en\, wie diese unterstützen.\n\n\n\n&nbsp\;\n\n\n\n&nbsp\;\n\n
ATTACH;FMTTYPE=image/jpeg:https://synagoge-ahrweiler.eu/wp-content/uploads
 /2024/06/Foto-Flueck-DSC_3044-Presse-Rot-scaled.jpg
CATEGORIES:Lesung
END:VEVENT
END:VCALENDAR