BEGIN:VCALENDAR
VERSION:2.0
PRODID:-//wp-events-plugin.com//7.2.3.1//EN
BEGIN:VEVENT
UID:131@synagoge-ahrweiler.eu
DTSTART:20240908T160000Z
DTEND:20240908T180000Z
DTSTAMP:20240627T105230Z
URL:https://synagoge-ahrweiler.eu/events/tag-des-offenen-denkmals-in-der-e
 hemaligen-synagoge-ahrweiler-konzert/
SUMMARY:Tag des offenen Denkmals in der Ehemaligen Synagoge Ahrweiler - Kon
 zert
DESCRIPTION:Bad Neuenahr-Ahrweiler. Für den 8. September 2024 hat sich der
  Vorstand des Bürgervereins Ehemalige Synagoge Ahrweiler etwas Besonderes
  ausgedacht: Gleich drei Veranstaltungen stehen auf dem Programm. Um 11 Uh
 r wird Petra Schwarzkopf\, Schriftstellerin aus Bad Bodendorf\, ihr Jugend
 buch „Bombenstimmung“ vorstellen. Es ist bereits der 3. Band aus ihrer
  Serie „Detektei Anton“. Onkel Anton findet Munition aus dem Zweiten W
 eltkrieg im heimischen Wald und einen seltsamen Brief\, der die jugendlich
 en Detektive in die Geschichte der Jahre 1942 bis 1945 eintauchen lässt. 
 Ein spannendes Buch für Kinder ab 11 Jahren. Um 14 Uhr kommt Herr Avadiev
  von der Jüdischen Kultusgemeinde in Koblenz und hält einen Vortrag übe
 r das Jüdische Leben in seiner Gemeinde. Anschließend können Fragen ges
 tellt werden und es werden koschere Snacks angeboten. Um 17 Uhr spielt die
  Gruppe Easy Goin' Klezmer Musik. Michael Misterek\, Gitarren\, Mandoline 
 und Gesang\, Gunther Hellwig\, Saxophon\, Oboe\, Flöten Alfred Weigang: K
 ontrabass\, E-Bass\, Gesang und Gesang\, Walter Rick\, Schlagzeug und Perk
 ussion und Gastmusiker Johannes Solluch\, Violine konzertierten bereits vo
 r vielen Jahren in der Synagoge und unterstützten damals die Benefizkonze
 rte zum Erwerb des Synagogen Flügels. Es erwartet Sie ein toller unterhal
 tsamer und informativer Tag. Wir freuen uns auf Ihr Kommen. Der Eintritt i
 st frei\, Spenden sind aber herzlich willkommen. Gerne können Sie Mitglie
 d im Synagogenverein werden und Veranstaltungen\, wie diese unterstützen.
 \n\n&nbsp\;\n\n\n\n&nbsp\;\n\n&nbsp\;
ATTACH;FMTTYPE=image/jpeg:https://synagoge-ahrweiler.eu/wp-content/uploads
 /2024/06/DSC_0352_2.jpg
CATEGORIES:Konzert
END:VEVENT
END:VCALENDAR