BEGIN:VCALENDAR
VERSION:2.0
PRODID:-//wp-events-plugin.com//7.2.3.1//EN
BEGIN:VEVENT
UID:9@synagoge-ahrweiler.eu
DTSTART:20181124T183000Z
DTEND:20181124T183000Z
DTSTAMP:20180912T180845Z
URL:https://synagoge-ahrweiler.eu/events/synnvoll-bardenrock/
SUMMARY:Synnvoll: Bardenrock
DESCRIPTION:KONZERT der Gruppe 'Synnvoll': Bardenrock made in Germany mit P
 ele Reinnarth (Gitarre\, Gesang)\, Astrid Reinnarth (Bass)\, Michael Bruch
 mann (Schlagzeug) und Katja Reiszig (Gesang). Eintritt: 12\,50 € / 10 
 €. Kasse: 19  Uhr.\n\n[caption id="attachment_2306" align="aligncenter"
  width="416"] FOTO: Erika Höhn[/caption]\n\nSYNNVOLL\, die einheimische B
 and um Peter „Pele“ Reinnarth präsentiert ihr aktuelles Programm erne
 ut in der ehemaligen Synagoge in Ahrweiler einem breiten Publikum. Gegrün
 det 2010 entwickelt die Band stetig ihren eigenen Stil und Sound mit moder
 nstem Instrumentarium und Anleihen aus der Folk-\, Rock- und Popmusik.\nDa
 bei folgt sie der Tradition der Barden\, wie zB Walther von der Vogelweide
 \, die über die Schönheit der Natur\, die politischen Wirrungen ihrer Z
 eit und über die Neuigkeiten der Welt Lieder verfassten und ihr Publikum
  informierten.\n\nDie Zuhörer durch eigene Musik\, Texte\, Arrangements u
 nd die außergewöhnliche Spielweise auf eine Reise ins eigene Ich mitzun
 ehmen ist ihre Intension. Themen wie Glaube\, Liebe\, Hoffnung und Friede
 n liegen der Band sehr am Herzen.\n\nBardenrock – made in Germany sind d
 as Markenzeichen von SYNNVOLL. SYNNVOLL spielt in der Besetzung Pele Reinn
 arth (Gitarre/Gesang)\, Michael Bruchmann\, Gründungsmitglied der Band Ho
 elderlin (Schlagzeug)\, Astrid Reinnarth (Bass) und Katja Reiszig (Gesang)
 .
CATEGORIES:Konzert
END:VEVENT
END:VCALENDAR