BEGIN:VCALENDAR
VERSION:2.0
PRODID:-//wp-events-plugin.com//7.2.3.1//EN
BEGIN:VEVENT
UID:154@synagoge-ahrweiler.eu
DTSTART:20250719T180000Z
DTEND:20250719T200000Z
DTSTAMP:20250614T084745Z
URL:https://synagoge-ahrweiler.eu/events/pianist-jonas-becker-spielt-filmm
 usiken-von-hans-zimmer/
SUMMARY:Filmmusik von Hans Zimmer - am Klavier mit Jonas Becker
DESCRIPTION:\n\n\nEinlass: 18:30 - Beginn 19:00\n\nVorverkauf: ab 12 Euro -
  Abendkasse - ab 15 Euro\n\nWeitere Infos und Vorverkauf unter: www.jonas-
 becker-music.com\n\n\n\n\nAm Samstag\, dem 19. Juli\, 19:00 Uhr\, können 
 Sie in der ehemaligen Synagoge Ahrweiler einen Klavierabend der besonderen
  Art erleben: Die Filmmusik von Hans Zimmer\, gespielt von Jonas Becker.
  Musikbegeisterte\, Klavierliebhaber und Filmenthusiasten allen Alters sin
 d eingeladen\, sich auf eine nie dagewesene Interpretation bewegender Mome
 nte der Filmgeschichte zu freuen. Das Repertoire bedient sich dabei einer 
 breiten Auswahl bedeutender Werke des zweifachen Oscar-Preisträgers und r
 eicht von Klassikern der späten 80er-Jahre\, wie Rain Man\, über Filme 
 wie Der König der Löwen\, Gladiator\, Fluch der Karibik\, Inception
  und Interstellar\, bis hin zu seinem letzten großen Erfolg mit Dune 
 – Part 2 im vergangenen Jahr. Kommen Sie mit auf eine Reise durch über
  35 Jahre Filmmusik und genießen Sie mitreißende Geschichten und Emotion
 en auf 88 Tasten.\n\nHans Zimmer zählt mit seiner Musik für über 150 F
 ilme zu den erfolgreichsten Komponisten unserer Zeit. Der in Frankfurt am 
 Main geborene Deutsch-Amerikaner war bereits seit Beginn der 1980er-Jahre 
 gemeinsam mit Stanley Myers an der Vertonung verschiedener Filme beteiligt
 . Sein großer Durchbruch gelang ihm im Jahr 1988 mit der Filmmusik für B
 arry Levinsons Rain Man\, welche ihm seine erste Oscar-Nominierung besch
 erte\; elf weitere sollten folgen. In den 1990er-Jahren überzeugte Zimmer
  vor allem durch seine innovative Kombination aus Orchester und Synthesize
 r\, mit welcher er zu einem neuartigen Stil der Actionfilm-Vertonung beitr
 ug. 1994 schrieb er die Musik zu Disneys Der König der Löwen und gewan
 n im Jahr darauf seinen ersten Oscar in der Kategorie Beste Filmmusik.\n\
 nIn den 2000er- und 2010er-Jahren schuf Zimmer\, beginnend mit Ridley Scot
 ts Gladiator\, eine Vielzahl filmmusikalischer Meilensteine\, deren Popu
 larität bis heute anhält. Gemeinsam mit Regisseur Christopher Nolan setz
 te der Komponist neue Maßstäbe: Batman Begins markierte 2005\, gefolgt
  von The Dark Knight im Jahr 2008\, den Start einer neuen Ära der Actio
 n- und Comic-Verfilmungen. Mit Inception und Interstellar sicherte sic
 h das Duo aus Meister-Regisseur und Star-Komponist 2010 und 2014 mit zwei 
 in Science-Fiction und Action gebetteten Charakter-Dramen einen Platz unte
 r den ganz Großen Hollywoods. Daneben komponierte Hans Zimmer für Filme 
 wie Der letzte Samurai\, King Arthur\, Ron Howards Der Da Vinci Code o
 der Guy Richies Sherlock Holmes\, aber auch für Animationsfilme wie Mad
 agascar\, Kung Fu Panda oder Rango. Die größte Bekanntheit erlangte d
 er Komponist wahrscheinlich durch seine Zusammenarbeit mit Gore Verbinski 
 an dessen Fluch der Karibik-Trilogie. Im Jahr 2022 erhielt Zimmer seinen 
 zweiten Oscar für die Filmmusik zu Denis Villeneuves Dune. \n\nSeit 201
 6 tritt der Filmkomponist gemeinsam mit befreundeten Musikerinnen und Musi
 kern weltweit auf und präsentiert seine Musik live vor Publikum. Dabei st
 eht er nicht etwa als Dirigent vor Orchester und Band\, sondern spielt als
  teil dieser mal Klavier\, mal Gitarre oder Banjo. Hans Zimmers Musik und 
 sein Stil sind aus der Filmwelt nicht mehr wegzudenken und beeinflussen se
 it über 35 Jahren den Klang Hollywoods. Er selbst ist zum Weltstar gereif
 t und begeistert jedes Jahr Millionen Menschen im Kino oder auf der Bühne
 .\n\nJonas Becker begann mit dem Klavierspiel im Alter von sechs Jahren u
 nd fand außerhalb des klassischen Unterrichts schnell eine Begeisterung f
 ür die Musik im Film. Früh zeigte sich neben seiner Leidenschaft am Inst
 rument seine Fähigkeit als Autodidakt: Bereits mit acht Jahren arrangiert
 e und interpretierte er Filmmusik\, die er kurz zuvor im Kino erstmals geh
 ört hatte. Hans Zimmers Musik spielte dabei für den jungen Pianisten ein
 e ganz besondere Rolle. „Mein Vater hatte ein Thema aus Fluch der Karib
 ik als Klingelton auf dem Handy. Das war so cool\, das wollte ich unbedin
 gt auch spielen.“ Während seiner Jugend arrangierte Becker die Musik za
 hlreicher Filme für Klavier und machte sich so außerhalb des Unterrichts
  mit den großen Komponisten Hollywoods vertraut.\n\nMit 14 Jahren wechsel
 te er schließlich an die Sinziger Musikschule\, an welcher der Musiker si
 ch pianistisch frei entfalten konnte\, erste Erfahrungen vor Publikum samm
 elte und von 2019 bis 2021 selbst als Lehrer für Klavier unterrichtete. I
 n dieser Zeit konnte der junge Künstler neben der Förderung durch das ei
 gene Elternhaus\, stets auf die Unterstützung seines ehemaligen Lehrers u
 nd Mentors Thomas Rohde\, sowie seines Freundes und Singer-Songwriter Chri
 stoph Rieger bauen.\n\nAufgrund einer Belastungs- und Panikstörung\, als 
 Folge der Flut im Jahr 2021 und der dadurch verursachten körperlichen Sym
 ptome\, gab Becker seine Tätigkeit als Lehrer und Pianist 2023 vorerst au
 f. „Ich hatte Ticks im Arm und meine Hände haben ständig gezittert. We
 nn es ganz schlimm war\, habe ich sogar angefangen zu stottern. Das Klavie
 rspielen war mir meist nur erschwert und oft gar nicht möglich.“ Erst d
 er Aufenthalt in einer psychosomatischen Klinik im Frühjahr 2024 brachte 
 Besserung. Seither ist der junge Pianist bestrebt\, gesundheitlichen Probl
 emen zum Trotz seinem Traum nachzugehen und öffentlich aufzutreten. Mit s
 einem aktuellen Programm möchte er einen der größten Komponisten unsere
 r Zeit feiern und lädt Filmmusik-Fans allen Alters ein\, gemeinsam einen 
 unvergesslichen Abend zu erleben.\n\n\n\n&nbsp\;\n\nDatum: 19.07.2025 - E
 inlass 18:30 Uhr - Beginn 19:00                            
           Vorverkauf: ab 12 Euro - Abendkasse: ab 15 Euro\nAdresse f
 ür den Vorverkauf: www.jonas-becker-music.com\nDirekter Link für den Vor
 verkauf: https://www.eventim-light.com/de/a/6786999bb3d730624dabb7d5/e/683
 eaf637664391d2f9931ef\n\n&nbsp\;
ATTACH;FMTTYPE=image/jpeg:https://synagoge-ahrweiler.eu/wp-content/uploads
 /2025/06/Jonas-Becker-Plakat.png
CATEGORIES:Konzert
END:VEVENT
END:VCALENDAR