BEGIN:VCALENDAR
VERSION:2.0
PRODID:-//wp-events-plugin.com//7.2.3.1//EN
BEGIN:VEVENT
UID:29@synagoge-ahrweiler.eu
DTSTART;VALUE=DATE:20190406
DTEND;VALUE=DATE:20190408
DTSTAMP:20190309T162631Z
URL:https://synagoge-ahrweiler.eu/events/musikschule-primus-harfentreff/
SUMMARY:MUSIKSCHULE PriMus Harfentreff.
DESCRIPTION:\n\nAm Samstag\, 06. April 2019 treffen sich ehemalige und aktu
 elle HarfenistInnen der PriMus-Harfenklasse von Michael Adami zum Musizier
 en beliebter Ensemble- und Solo-Melodien unterschiedlicher Stilrichtungen.
 \nEin daraus mehr oder weniger spontan entstehendes Programm werden die Mu
 sikanten im Rahmen eines Familienkonzertes allen Freunden von Harfenmusik 
 zu Gehör bringen.\nDie Veranstaltung findet statt um 15:30 Uhr in der ehe
 maligen Synagoge Bad Neuenahr-Ahrweiler. Für Beantwortungen von Fragen zu
 m Thema Harfe steht die Gruppe gern zur Verfügung. Der Eintritt ist frei\
 , Spenden zur Deckung der Kosten sind willkommen.
END:VEVENT
END:VCALENDAR