BEGIN:VCALENDAR
VERSION:2.0
PRODID:-//wp-events-plugin.com//7.2.3.1//EN
BEGIN:VEVENT
UID:36@synagoge-ahrweiler.eu
DTSTART;VALUE=DATE:20191025
DTEND;VALUE=DATE:20191028
DTSTAMP:20190901T102732Z
URL:https://synagoge-ahrweiler.eu/events/musikfestival-10-jahre-fluegel-in
 -der-synagoge/
SUMMARY:Flügelfestival in der Ehemaligen Synagoge Ahrweiler (Drei Tage Pro
 gramm)
DESCRIPTION:[caption id="attachment_2787" align="alignright" width="157"] A
 lexandra Tschida[/caption]\n\nVor 10 Jahren hatte das Trio Tschida\, Knoll
  und Weigl die Idee Benefizkonzerte zu veranstalten\, um die ehemalige Syn
 agoge Ahrweiler mit einem Flügel auszustatten.\n\nZusammen mit Klaus Liew
 ald\, dem ehemaligen Vorsitzenden des Synagogenvereins\, wurde dies in die
  Tat umgesetzt.\n\n„Dies muss gefeiert werden“\, so Opern- und Konzert
 sängerin Alexandra Felizitas Tschida\,\n\n„Ohne den Flügel wären viel
 e Konzerte in diesem wunderschönen Raum gar nicht möglich.“\n\nTschida
  hat für den 25. bis 27. Oktober ein buntes Programm vorgesehen:\nFreitag
 \, 25.10.2019\n\n 	19.30 : Uhr Eröffnung mit dem TSCHIDA Ensemble\n\n[cap
 tion id="attachment_2785" align="alignright" width="154"] Foto: Frank Schw
 arzkopf[/caption]\n\n„Küss mich\, ich bin dein Prinz“ -\nein musikali
 sches Märchen\n\nbzw.\nLiebesgeschichte mit Happy End\n\nGesang:  Alexan
 dra Tschida\, Petra Schwarzkopf\nFrosch: Luise Mies\nAm Flügel: Ilse Kös
 ling\n\n&nbsp\;\n\n\n\nSamstag\, 26.10.2019\n\n 	\n\n[caption id="attachme
 nt_2789" align="alignright" width="108"] Brüder Schakowski[/caption]\n\n1
 1 Uhr : Die Brüder Philip und Fabian Schakowski spielen Rock/Pop-Musik u.
  a. von Simon and Garfunkel\, Lorde\, Crowded House\, Mumford &amp\; Sons\
 , Jessie J\, etc.\n\n„Wenn die beiden mehrstimmig singen\, kriegt man G
 änsehaut.“\n 	16 Uhr : Easy Goin' spielt Jazz-Klassiker und Folk-Musik.
 \n\n 	Gunther Hellwig\, Rolf Schmiedel\, Michael Misterek\, Alfred Weigang
  und Walter Rick musizieren seit über 20 Jahren zusammen.\n 	An diesem Na
 chmittag kommen 10 verschiedene Instrumente zum Einsatz.\n\n[caption id="a
 ttachment_2786" align="aligncenter" width="247"] Easy Goin'[/caption]\n\n\
 n 	19 Uhr : Barlala\, die Coverband aus dem AhrtalDer Charme der ausgefall
 enen Interpretationen und Instrumentierungen läßt Titel von The Cure üb
 er David Bowie bis hin zu Lana Del Rey erfrischend neu klingen und erleben
 .\n\n 	Ellen Thies\, Martin Bertram\, Martin Brenner und Claus Mies erwart
 en Euch!\n\n[caption id="attachment_2791" align="aligncenter" width="300"]
  Barlala[/caption]\n\n\n\n\n\n\nSonntag\, 27.10.2019\n\n 	11 Uhr : Klavier
 schüler zeigen ihr Können auf dem Flügel:\n\n 	Privatschüler Antonia W
 olff und Leonie Jäger\n\n 	Musikschule Primus: Magdalena Vetterlein und 
 Eileen Zulak spielen Bach\, Debussy\, Chopin und Liszt\n 	Die Musikschule 
 im Kreis Ahrweiler ist vertreten durch Schüler von Herrn Raphael Zauels\n
 \n\n 	16 Uhr : Gesangsschüler präsentieren einen bunten Blumenstrauß an
  Musik:\n\n 	Stücke aus Film und Musical\, Oper und Operette\, sowie Chan
 sons und andere Leckerbissen.Leitung: Gesangslehrerin Alexandra TschidaAm 
 Flügel: Ilse Kösling\n\n[caption id="attachment_2793" align="aligncenter
 " width="300"] Gesangsschüler[/caption]\n\n\n 	20.15 Uhr : Ensembleleiter
  Dominik Löbens tritt mit seinen beiden Ensembles KlangfAhrben und Multi
 tonix auf.\n\n 	Sie singen A - Cappella - Stücke\, sowie Lieder mit Klavi
 er- und Instrumentalbegleitung aus Jazz\, Pop und neuer geistlicher Chorli
 teratur u.a. von B. Wilson\, J. Rutter\, P. McCartney\, J. Lennon\, A. Bou
 rani\, Wise Guys\, Billy Joel\, Kings Singers\, L. Cohen\, Flying Pickets\
 , etc.\n 	Es singen und spielen: Jutta Schulte-Hürmann\, Ingrid Möhlig\,
  Petra Schwarzkopf\, Christina Weber\, Karl Hanenberg\, Carsten Thewes\, D
 ominik Löbens\, Simone Weber\, Melanie Hürlimann\, Gerd Jung\, Frank Lux
 em und Johannes Schüller.\n\nEin absolutes Highlight des Festivals.\n\nEi
 nlass ist jeweils eine halbe Stunde vor Konzertbeginn.\nBei allen Veransta
 ltungen ist der Eintritt frei\, Spenden sind jedoch herzlich willkommen.
CATEGORIES:Konzert
END:VEVENT
END:VCALENDAR