BEGIN:VCALENDAR
VERSION:2.0
PRODID:-//wp-events-plugin.com//7.2.3.1//EN
BEGIN:VEVENT
UID:107@synagoge-ahrweiler.eu
DTSTART:20231021T170000Z
DTEND:20231021T190000Z
DTSTAMP:20231010T085918Z
URL:https://synagoge-ahrweiler.eu/events/musik-in-der-synagoge-geigenvirtu
 ose-aus-new-york-in-ahrweiler/
SUMMARY:Musik in der Synagoge - Geigenvirtuose aus New York in Ahrweiler
DESCRIPTION:Jüdische Musik ist für den gefeierten New Yorker Geiger Giora
  Schmidt Teil seiner Familientradition. Dies beweist er am Samstag\, 21. O
 ktober\, um 18 Uhr in der Synagoge Ahrweiler. Der Meisterschüler von Pinc
 has Zukerman spielt mit jungen Streichern der Villa Musica und jungen Blä
 serinnen der Tschechischen Kammermusik-Akademie Trios jüdischer Komponist
 en und Werke der Wiener Klassik. Die bedrückende Wirklichkeit von Theresi
 enstadt hat der jüdische Komponist Hans Krása in seiner Passacaglia und 
 Fuge für\nStreichtrio eingefangen. Der Prager Erwin Schulhoff komponierte
  lange vor seiner Internierung durch die Nazis ein launiges Divertissement
  für drei Bläser als Ode auf den Charleston und die „Goldenen“ Zwanz
 iger Jahre. Die drei Bläserinnen des Abends brillieren in Quartetten für
  Solobläser und Streicher: in Mozarts Oboenquartett KV 370\, Krommers Kla
 rinettenquartett und Webers „Rondo Ungarese“. Beethovens Streichtrio O
 pus 9 Nr. 2\nrundet den Bogen der Werke für drei und vier Musiker ab\, an
 geführt von einem der größten amerikanischen Geiger unserer Zeit.\nKart
 en gibt es bei den Sparkassen in Ahrweiler und Bad Neuenahr\, unter www.sy
 nagoge-ahrweiler.de und bei Villa Musica in Mainz: 06131 / 9251800\; www.v
 illamusica.de.\nSamstag\, 21.10.\, 18 Uhr – Synagoge Ahrweiler\nGiora Sc
 hmidt\, Violine | Junge Streicher von Villa Musica Rheinland-Pfalz | Junge
  Bläserinnen der Tschechischen Kammermusik-Akademie\nWolfgang Amadeus Moz
 art: Oboenquartett F-Dur\, KV 370\nLudwig van Beethoven: Streichtrio D-Dur
 \, op. 9 Nr. 2\nFranz Krommer: Quartett für Klarinette und Streicher\nCar
 l Maria von Weber: Rondo Ungarese für Fagott und Streicher\nHans Krása: 
 Passacaglia und Fuge für Streichtrio\nErwin Schulhoff: Divertissement fü
 r Bläsertrio\n\nEINTRITT: 20.- Euro\, Kinder unter 18 Jahren 6\,00 Euro\n
 \n
ATTACH;FMTTYPE=image/jpeg:https://synagoge-ahrweiler.eu/wp-content/uploads
 /2023/10/GioraSchmidt3.jpg
CATEGORIES:Konzert
END:VEVENT
END:VCALENDAR