BEGIN:VCALENDAR
VERSION:2.0
PRODID:-//wp-events-plugin.com//7.2.3.1//EN
BEGIN:VEVENT
UID:47@synagoge-ahrweiler.eu
DTSTART:20190915T150000Z
DTEND:20190915T150000Z
DTSTAMP:20190803T125212Z
URL:https://synagoge-ahrweiler.eu/events/michael-lohr-gitarre-und-gesang/
SUMMARY:Michael Lohr – Songs & Instrumentals aus Folk\, Jazz\, Latin & me
 hr
DESCRIPTION:Folk\, Blues\, Jazz\, Rock\, Soul\, Pop und Latin sind seine We
 lt - und seine Gitarre ist eine ganze Band. Michael Lohr macht das scheinb
 ar beschränkte Begleitinstrument zur groovenden Combo.\n\n[caption id="at
 tachment_2777" align="alignright" width="300"] Michael Lohr mit Ziggy[/cap
 tion]\n\nOb Santana oder Allman Brothers\, ob Broadway-Songs oder Stevie W
 onder\, ob Beatles oder Bebop\, ob George Gershwin oder Pat Metheny\, ob S
 cott Joplin oder Dire Straits\, ob karibisch\, irisch\, brasilianisch\, af
 rikanisch\, ob Sounds aus den Südstaaten-Sümpfen\, Funk aus der Großsta
 dt oder Tänze aus den Highlands – stets melodiös zupfend\, mehrstimmig
  tappend und percussiv untermalend auf verschiedenen\, mitunter ungewöhnl
 ichen Instrumenten aus der Gitarrenfamilie (und manchmal dazu noch auf Kla
 vier oder Hammond-Orgel) unterhält Michael Lohr teils rein instrumental\,
  teils mit eigenen Instrumentals und Songs (humorvoll\, persönlich und po
 etisch sowohl in Hochdeutsch wie in Eifler Mundart) sowie verblüffend ori
 ginalgetreuen Übertragungen von Standards aus Jazz und Pop in seinen Dial
 ekt.\n\nUnd das alles tut er so abwechslungsreich und „vielsaitig“\, d
 ass man dabei nicht einmal ein Schlagzeug vermisst.\n\nEintritt 10 Euro.
CATEGORIES:Konzert
END:VEVENT
END:VCALENDAR