BEGIN:VCALENDAR
VERSION:2.0
PRODID:-//wp-events-plugin.com//7.2.3.1//EN
BEGIN:VEVENT
UID:122@synagoge-ahrweiler.eu
DTSTART:20241005T150000Z
DTEND:20241005T170000Z
DTSTAMP:20240926T173510Z
URL:https://synagoge-ahrweiler.eu/events/meisterwerke-aus-romantik-und-imp
 ressionismus-von-einem-meister-am-klavier/
SUMMARY:Meisterwerke aus Romantik und Impressionismus von einem Meister am 
  Klavier
DESCRIPTION:&nbsp\;\n\n\n\nAm Samstag\, dem 5. Oktober gibt es in Ahrweiler
  die Gelegenheit\, einKlavier-Highlight zu erleben. Der amerikanische Virt
 uose Menachem Har-Zahav wird um 16 Uhr in der ehemaligen Synagoge Ahrweile
 r auftreten. Klassikliebhaber haben hier die Gelegenheit\, die Emotionalit
 ät und Finesse der romantischen und impressionistischen Klaviermusik haut
 nah zu erleben. Ein virtuoser Künstler mit musikalischer Leidenschaft und
  Sensibilität Menachem Har-Zahav hat sich in der Welt der klassischen Mus
 ik einen Namen gemacht.  Mit mehr als eintausend öffentlichen Auftritten
  in den USA und in Europa hat er bei Kritikern und Publikum gleichermaßen
  große Anerkennung gefunden. Sein emotionales und sensibles Klavierspiel 
 und sein technischer Glanz beeindrucken und begeistern Musikliebhaber imme
 r wieder. Eine abwechslungsreiche Auswahl aus Romantik und Impressionismus
  Auf dem Programm steht eine abwechslungsreiche Auswahl von Werken bekannt
 er romantischer und impressionistischer Komponisten wie Frédéric Chopin\
 , Franz Liszt\, Sergei Rachmaninoff\, Maurice Ravel und Claude Debussy. Ei
 ntritt für Kinder und Jugendliche nur 1 Euro – Begleitung halber Preis 
 Kinder und Jugendliche unter 18 Jahren zahlen zu Menachem Har-Zahavs Konze
 rten einen stark reduzierten Eintrittspreis von nur einem Euro. Gleichzeit
 ig erhalten bis zu zwei begleitende Erwachsene pro Familie Karten zum halb
 en regulären Eintrittspreis. Dahinter steckt sein Wunsch\, gerade der Jug
 end und Familien einen Anreiz zu geben und zu ermöglichen\, klassische Ko
 nzerte zu besuchen.  Er selbst sagt dazu: „Ich finde es schade\, dass s
 o viele Kinder und Jugendliche klassische Musik als altmodisch und langwei
 lig ansehen.  Ich möchte ihnen die Gelegenheit bieten\, zu erleben\, das
 s Komponisten durch die musikalischen Epochen hinweg spannende Musik gesch
 rieben haben\, die auch heute noch mitreißt. Die Liebe zur klassischen Mu
 sik darf nicht aussterben!“ Karten zu Euro 19\,- / 15\,- für Schwerbehi
 nderte ab GdB50 und Mitglieder des Bürgervereins Synagoge Bad Neuenahr-Ah
 rweiler (inkl. VVK-Geb.) Tickets über Tourist-Info Bad Neuenahr und Ahrwe
 iler und im Ticketshop auf menachem-har-zahav.de sowie telefonisch unter 0
 151 / 28 442 449.
ATTACH;FMTTYPE=image/jpeg:https://synagoge-ahrweiler.eu/wp-content/uploads
 /2023/06/za.jpg
CATEGORIES:Konzert
END:VEVENT
END:VCALENDAR