BEGIN:VCALENDAR
VERSION:2.0
PRODID:-//wp-events-plugin.com//7.2.3.1//EN
BEGIN:VEVENT
UID:48@synagoge-ahrweiler.eu
DTSTART:20191019T180000Z
DTEND:20191019T180000Z
DTSTAMP:20190902T183921Z
URL:https://synagoge-ahrweiler.eu/events/laurence-otoole/
SUMMARY:Laurence O'Toole
DESCRIPTION:BENEFIZKONZERT 19. Oktober. Laurence O'Toole (Gitarre &amp\; Ge
 sang) in Begleitung von Daniela Nies (Gesang) präsentieren traditionelle 
 irische und eigene Lieder.\n\nDas Zusammenspiel der beiden Stimmen unter B
 egleitung der Gitarre macht die besondere Atmosphäre aus\, die die Lieder
  in den Raum tragen. Es sind poetische Texte\, die das Leben mit all seine
 n Höhen und Tiefen beschreiben.\n\n\n\nLaurence O'Toole kaufte seine erst
 e Gitarre mit 15 Jahren und brachte sich das Spielen selber bei. Nachdem e
 r sein Kunststudium abgeschlossen hatte\, begann er neben seiner Kunst auc
 h mit Eigenkompositionen und vielen Übungsstunden an der Gitarre.\n\nDani
 ela Nies hat mit 14 Jahren in der Folkloregruppe des Rheingymnasiums Sinzi
 g mit Singen begonnen und trat in den vergangenen Jahren mit verschiedenen
  Bands als Frontsängerin auf. Nun ist sie zu den leiseren Tönen des Folk
  zurückgekehrt.\n\nMehr über die Arbeiten von Laurence O’Toole erfahre
 n Sie auf seiner Internetseite:https://www.creative-arts-laurenceotoole.co
 m\n  oder auf You Tube: Laurence O’Toole: Music &amp\; Art\nhttps://www
 .youtube.com/channel/UCX_NPh1Ft8anPZTIbj3YGmA\n&nbsp\;\n\nDas Konzert begi
 nnt um 19 Uhr (Einlass 18.30 Uhr).\n\nEintritt: 10 €- Die Erträge werde
 n einem guten Zweck zugeführt.
CATEGORIES:Konzert
END:VEVENT
END:VCALENDAR