BEGIN:VCALENDAR
VERSION:2.0
PRODID:-//wp-events-plugin.com//7.2.3.1//EN
BEGIN:VEVENT
UID:102@synagoge-ahrweiler.eu
DTSTART:20230909T183000Z
DTEND:20230909T203000Z
DTSTAMP:20230707T184605Z
URL:https://synagoge-ahrweiler.eu/events/krimis-und-balladen-mit-amos-rock
 s-und-peter-splitt/
SUMMARY:Krimis und Balladen mit Amos & Rocks und Peter Splitt
DESCRIPTION:&nbsp\;\n\nVorverkauf ab sofort  in der Buchhandlung Am Ahrtor
                                      
         zur Zeit in der Elligstr. 20 in Ahrweiler.\nTel.: 02641-406
 5\n\n\n\n&nbsp\;\n\n\n\n\n\nEs war eine glückliche Fügung\, als sich in 
 den Achtziger Jahren Amos &amp\; Rocks zusammenfanden und auf akustischen 
 Instrumenten ihre Lieder begleiteten. Bis dahin waren beide als erfolgreic
 he Solisten unterwegs gewesen. Adam Amos mit seinen eigenen zeitgenössisc
 hen Texten und Noel Rocks aktiv in Irlands Folkbewegung. Mit neuen Harmoni
 en\, Arrangements und als perfekte Instrumentalisten trugen die beiden Aus
 nahmemusiker aus Edinburgh zur Vielfarbigkeit von Amos&amp\;Rocks bei. Bei
 de spielen Gitarre und Noel Rocks gilt zusätzlich als einer der besten Ba
 njospieler auf der Insel. Ihre Stimmen und Instrumente verschmelzen mitein
 ander und schaffen einen einzigartigen Sound\, der wirklich ihr eigener is
 t. Amos&amp\;Rocks tourten viele Jahre lang ausgiebig durch Großbritannie
 n und Europa\, füllten Hallen und Konzertsäle und sind noch immer gern g
 esehene Gäste auf zahlreichen Festivals. Im Herbst kommen sie endlich wie
 der nach Deutschland und spielen auf ihrer „BACK UP TO ZERO TOUR“ ihre
  eigenen bezaubernde Balladen\, sowie Traditionals aus Irland und Schottla
 nd. Infos unter: www.amosandrocks.com\nDer Autor Peter Splitt\, geboren am
  09. September 1961 in Remscheid\, verbrachte seine Kindheit im Bergischen
  Land. Nach einer technischen sowie kaufmännischen Berufsausbildung wechs
 elte er in die frühere Bundeshauptstadt Bonn und erlangte dort Sprachdipl
 ome in Englisch\, Spanisch und Portugiesisch. Neben Musik\, Literatur und 
 Antiquitäten wurden Reisen in ferne Länder zu seiner großen Leidenschaf
 t. Besonders Lateinamerika mit seinen Menschen und Gebräuchen sowie den J
 ahrtausende alten Hochkulturen finden immer wieder seine Begeisterung. Sei
 t mehr als zehn Jahren lebt er abwechselnd in Südeuropa und seiner Wahlhe
 imat am Rhein. Abenteuergeschichten\, Thriller und spannende Krimis aus de
 r Region mit einem Schuss Humor und charakteristisch sehr speziellen Prota
 gonisten sind sein Steckenpferd. Er hat sich mit mittlerweile weit über 2
 0 veröffentlichten Büchern auf dem Literaturmarkt einen Namen gemacht. N
 ach einer bombastischen Veranstaltung im Kultur- und Krimiverein der Bonne
 r Polizei e.V. geht er im Herbst 2023 wieder auf Lesetour. Infos unter: ww
 w.petersplitt.mozello.de
ATTACH;FMTTYPE=image/jpeg:https://synagoge-ahrweiler.eu/wp-content/uploads
 /2023/04/Noel-Adam-300-JPEG.jpg
CATEGORIES:Konzert
END:VEVENT
END:VCALENDAR