BEGIN:VCALENDAR
VERSION:2.0
PRODID:-//wp-events-plugin.com//7.2.3.1//EN
BEGIN:VEVENT
UID:55@synagoge-ahrweiler.eu
DTSTART:20200207T183000Z
DTEND:20200207T183000Z
DTSTAMP:20191219T075612Z
URL:https://synagoge-ahrweiler.eu/events/konzert-twodylan-bob-dylan-coverb
 and/
SUMMARY:Konzert TwoDylan (Bob Dylan Coverband)
DESCRIPTION:Zwei Verehrer. Eine Hommage an den Meister.\nZwei Generationen.
  Ein Idol.\nHP Barrenstein und Max Barrenstein\nBob Dylan - Eine Zeitreise
  in die 60er!\n\nEintritt: 15/13 Euro\n\nDylan hat auf seine revolutionär
 e Art und Weise erstmals musikalische mit intellektuellen Inhalten verknü
 pft. Nicht umsonst wurde er für sein dichterisches Werk mit dem Literatur
 -Nobelpreis geehrt. HP Barrenstein Gitarre/Leadgesang/ Mundharmonika und M
 ax Barrenstein E-Gitarre/Gesang sind ein Duo\, das die Songs dieses Pionie
 rs der 60er Jahre eindrucksvoll auf die Bühne bringt. Stücke\, wie `Don
 ’t think twice´\, `Just like a woman´\, `Ballad of a thin man´\, `Mag
 gies farm´\, `Rainy Day Woman´\, `A hard rains gonna fall´\, `It‘s al
 right ma´\, `I want you´ oder `Mr. Tambourine Man´ nah am Original. Das
  gilt für die akustische Protestphase ebenso wie für Dylans elektrische 
 Zeit. Das Gesamtwerk von His Bobness ist mit über 600 Kompositionen und 5
 0 Alben sehr umfangreich. TwoDylan konzentrieren sich in der Synagoge auf 
 die frühen Jahre von `62 bis`70. HP Barrenstein gelingt es\, diese unnach
 ahmliche\, näselnde Stimme mit ihrer Wortgewalt lebendig werden zu lassen
 . Natürlich ist auch die Mundharmonika im Einsatz. Da mit Max Barrenstein
  ein exzellenter Gitarrist an Bord ist\, sind auch viele heftige Gitarrens
 oli zu hören. Dazu gibt Max mit seiner zweiten Stimme mancher Nummer eine
  eigene Klangfarbe.\n\n\n\nTwoDylan sind nicht nur musikalisch spannend. S
 ie geizen auch nicht mit Hintergrundinformationen und Anekdoten zu den St
 ücken\, zur vielschichtigen Person/ Persönlichkeit Dylans und seinem imm
 ensen Einfluss auf die Musikentwicklung. Die beiden Profis schaffen es\, i
 ntensiv und leidenschaftlich\, das Fenster zum Zeitgeist der 60er Jahre zu
  öffnen. Außerdem sorgt HP Barrenstein mit seinen humorigen Randbemerkun
 gen für lockeres Entertainment. Also\, let’s get to the sixties und ein
 em Abend randvoll mit wortintensiver Musik. Mit Deutschlands vielleicht be
 ster Dylan-Band.\n(Pressemitteilung)\n\nwww.twodylan.de
CATEGORIES:Konzert
END:VEVENT
END:VCALENDAR