BEGIN:VCALENDAR
VERSION:2.0
PRODID:-//wp-events-plugin.com//7.2.3.1//EN
BEGIN:VEVENT
UID:31@synagoge-ahrweiler.eu
DTSTART:20190605T180000Z
DTEND:20190605T180000Z
DTSTAMP:20190317T084138Z
URL:https://synagoge-ahrweiler.eu/events/konzert-mit-kit-hawes-and-aaron-c
 atlow/
SUMMARY:Konzert mit Kit Hawes and Aaron Catlow
DESCRIPTION:\n\n\n\n\n\nIn der Ehemaligen Synagoge gastieren die beiden Mus
 iker am 05. Juni 2019 um 19:30 Uhr (Kasse 19:00 Uhr). Reservierungen unter
  Tel. 0171 4926236 oder per E-Mail unter petra.eisenburger@concert-connect
 ions.com.\n\nDas aus dem englischen Bristol stammende Duo Kit Hawes und Aa
 ron Catlow hat sich ganz und gar der akustischen Folk- und Roots-Musik ver
 schrieben. Mit Geige\, Gitarre und zweistimmigem Harmoniegesang liefern di
 e beiden Musiker eine feurige Live-Performance und bieten dabei eine Füll
 e kreativer Energie. Von peitschenden\, schnellen Tunes bis hin zu traditi
 onellen Songs und Eigenkompositionen mit gesellschaftskritischen Texten - 
 manchmal spürt man einen gewissen Bluegrass-Einfluss\, dann wird es fast 
 ein wenig bretonisch – Kit und Aaron spannen einen bunten musikalischen 
 Regenbogen mit englischem Folk als Ausgangspunkt: Traditionelle Songs und 
 Tunes der britischen Inseln werden mit Eigenkompositionen verbunden und mi
 t ausgeklügelten und einzigartigen Arrangements hinterlegt. Die beiden Mu
 siker sind Meister darin\, diese vielfältigen musikalischen Einflüsse 
 – u.a. auch durch ihre zahlreichen Kooperationsprojekte mit renommierten
  Musikern wie z.B. Seth Lakeman und Afro Celt Sound - brillant in Szene zu
  setzen. Ihre Live-Show ist eine musikalische Reise quer durch Europa und 
 darüber hinaus und kombiniert Virtuosität mit einem feinen Gespür für 
 Musikalität und Showmanship – ein hin- und mitreißendes Konzerterlebni
 s\, bei dem die Musiker ihre Leidenschaft für Folk ausstrahlen und auf da
 s Publikum übertragen.\nUnd nicht nur live überzeugen Kit Hawes und Aaro
 n Catlow: Das Debütalbum des Duos\, „The Fox“\, wurde von Kritikern b
 egeistert aufgenommen und ist ein fantastisches Zeugnis ihrer Kunstfertigk
 eit. Einige Rezensionen: “Fleet fingered and ingeniously arranged. .....
 deserve to be thought of as up there with the best of them" – Songlines 
  “Reminiscent of Martin Carthy and the late Dave Swarbrick and I can gi
 ve them no higher accolade" Mark Radcliffe BBC Radio 2  “such dexterity
 \, energy and passion.....mightily impressive" - R2 Magazine  “The pair
  demonstrate an eclectic approach that lifts them head and shoulders above
  the rest” - Acoustic Magazine  “Never a dull moment\, with imaginati
 on firing throughout and an abundance of creative energy” - Living Tradi
 tion\n\nReservierungen unter petra.eisenburger@concert-connections.com ode
 r Tel. 0171 4926236. \nKit Hawes and Aaron Catlow are a Bristol based duo 
 playing acoustic\, folk and roots music.The pair have work with many artis
 ts including Seth Lakeman\, Afro Celt Sound system\, Yola Carter\, Mad Do
 g Mcrea\, Sheelanagig and Roni Size to name a few but what unites them is 
 a passion for folk music. They draw on their many influences to created un
 ique arrangements of traditional song and tunes\, as well as their own com
 positions. The live show is a musical journey through Europe and beyond\; 
 combining dazzling playing with a fine sense of musicality and showmanship
 . Kit Hawes and Aaron Catlow's debut album The Fox has been received with 
 critical acclaim. It explores the relationship between fiddle\, guitar and
  voice\, using the fertile ground of the traditional music of the British 
 Isles as its starting point. The product of decades of musical experience\
 , the track listing combines self penned tunes and folk tales\, all intric
 ately arranged and heartfelt.“Fleet fingered and ingeniously arranged. .
 ....deserve to be thought of as up there with the best of them" – Songli
 nes “Reminiscent of Martin Carthy and the late Dave Swarbrick and I can 
 give them no higher accolade" Mark Radcliff BBC radio 2  “such dexterit
 y\, energy and passion.....mightily impressive" - R2 Magazine “The pair 
 demonstrate an eclectic approach that lifts them head and shoulders above 
 the rest” - Acoustic Magazine “Never a dull moment\, with imagination 
 firing throughout and an abundance of creative energy” - Living Traditio
 n\n\n\n\n\n\n
END:VEVENT
END:VCALENDAR