BEGIN:VCALENDAR
VERSION:2.0
PRODID:-//wp-events-plugin.com//7.2.3.1//EN
BEGIN:VEVENT
UID:43@synagoge-ahrweiler.eu
DTSTART:20200126T150000Z
DTEND:20200126T150000Z
DTSTAMP:20190802T152317Z
URL:https://synagoge-ahrweiler.eu/events/konzert-mit-jerusaleman-ofer-gola
 ny-violalex-alexander-meyen/
SUMMARY:Konzert mit  "Jerusaleman" Ofer Golany & "Violalex" Alexander Meye
 n
DESCRIPTION:Das heutige Konzert zum Internationalen Tag des Gedenkens an di
 e Opfer des Nationalsozialismus präsentieren der Songwriter aus Israel un
 d der Jazzviolinist aus Köln. Ofer Golany ist in Jerusalem geboren\, ein 
 politisch-poetischer Liedermacher und zugleich ein musikalischer Botschaft
 er des Friedens.\n\n„Heilung  –  Die Ahrweiler Synagoge lebt“ eine
  magische Reise auf 11 Saiten\n\n[caption id="attachment_2759" align="alig
 nright" width="840"] Foto: Sabine Büttner[/caption]\n\nEin jüdischer Kri
 egsdienstverweigerer aus Jerusalem und ein fremdenfreundlicher Geiger aus 
 Köln mit jüdischen Wurzeln bekämpfen menschliche Schwächen von Ego\, P
 aranoia\, Angst\, Scham und Nationalismus.Musikalisch geheilt durch medita
 tive und humoristische Seelenmassage\, gewürzt mit Klezmer\, Flamenco\, J
 azz\, Zappa auf russisch\, Heiliger Franziskus auf englisch und a bissel j
 iddisch\, gekocht auf einer Flamme mit Publikumsbeteiligung\, denn auch du
  bist ein Teil dieser „jüdisch-deutschen Heilung“ in der Ehemaligen S
 ynagoge von Ahrweiler.\n\nInternet: www.violalex.de und  www.jerusaleman.
 com\n\nEintritt: frei\nKonzertorganisation: Musik-Entertainment Agentur El
 vira Engelhardt\nIm Äuelchen 33\, 53177 Bonn – Bad Godesberg\nTelefon: 
 + 49 (0)228 – 36997037  Mobil: + 49 (0)151 – 12 42 14 49\nE-Mail: mai
 l@elvira-engelhardt.com\nInternet: www.musik-entertainment.org\n\n&nbsp\;
CATEGORIES:Konzert
END:VEVENT
END:VCALENDAR