BEGIN:VCALENDAR
VERSION:2.0
PRODID:-//wp-events-plugin.com//7.2.3.1//EN
BEGIN:VEVENT
UID:30@synagoge-ahrweiler.eu
DTSTART;VALUE=DATE:20190518
DTEND;VALUE=DATE:20190519
DTSTAMP:20181118T170400Z
URL:https://synagoge-ahrweiler.eu/events/konzert-mit-duo-libert/
SUMMARY:KONZERT mit "DUO LIBERT"
DESCRIPTION:Das Duo Libert besteht aus Joanna Hermann  in Duo-Besetzung: Vi
 oline und Gitarre\, Violine und Klavier\, Violine und Orgel.\nIhr Repertoi
 re umfasst Originalkompositionen als auch Bearbeitungen vom Barock bis zur
  Moderne (Bach\, Mozart\, Paganini\, Piazzolla\, u.a.).\n\n\n\nDuo Libert\
 , Joanna Hermann - Violine und Ismael Alcalde - Gitarre\, ist eines der i
 nnovativen Ensembles\, das mit persönlicher Note\, viel Liebe zum Detail 
 und absoluter Hingabe die inspirierende aber wenig etablierte kammermusika
 lische Kombination Gitarre und Violine in konzertanter Schönheit vereint.
 \n\nBeide Künstler haben mit sechs Jahren die Liebe zu ihrem Instrument e
 ntdeckt\, studierten 2000 Kilometer entfernt voneinander an renommierten H
 ochschulen\, er in Barcelona\, sie in Hamburg. Der Name \,\,Libert" leitet
  sich von der ersten öffentlich aufgeführten Komposition\, dem \,\,Liber
 tango" von Astor Piazzolla ab. \,\,Libertango steht für die Freiheit\, di
 e ich meinen Musikern gebe. Sie finden ihre Grenzen nur in ihren eigenen S
 chwierigkeiten und nicht durch äußeren Druck"\, soweit Astor Piazzolla. 
 So begibt sich  Duo Libert auf die Suche nach stilistischer Vielfalt in d
 er musikalischen Freiheit\, weit entfernt davon\, den heiligen Gral der kl
 assischen Musik zu hüten und widmet sich neben der Pflege der Originallit
 eratur auch der Vermittlung eigener Bearbeitungen\, von der Frührenaissan
 ce bis zur Gegenwart.\n\nMusik zwischen sehnsuchtsvoller Melancholie\, gar
 antiertem Gänsehaut-Feeling\, brodelnder Leidenschaft und halsbrecherisch
 er Virtuosität! Filmmusik ganz ohne Leinwand!\n\nPressestimmen: \n\n\,\,D
 as Duo Libert bot ein unvergleichbares Konzert-Hörerlebnis. Den Zuhörern
  erschloss sich ein Klangbild von innigen\, fast entmaterialisierten Geige
 n- und Gitarrenvaleurs. Die beiden Künstler überzeugten schon mit den er
 sten Klängen\, mit präziser Figuration\, exakter Akkordbehandlung und ho
 mogener Anpassung bei Unisonostellen\, sie brachten ihr virtuoses Können 
 mit unglaublicher Spannkraft der Flageolett Passagen und Energie in der Ph
 rasierung zur Schau. Solch ein feinsinniges Musizieren mit instrumentaler 
 Brillanz und augenfälliger Musizierfreude nahm die Zuhörer von Anfang an
  gefangen. Ein kammermusikalisches Programm der Extraklasse!  (Auszüge 
 aus dem General-Anzeiger)\n\nJoanna Hermann wurde in Breslau geboren und b
 egann schon mit fünf Jahren das Geigenspiel. Sie erhielt Unterricht in de
 r Violinklasse Prof. Krzysztof Bruczkowski. In den Jahren 1991 bis 1998 wa
 r sie Preisträgerin internationaler Wettbewerbe in Belgien\, Polen und in
  Deutschland u.a. gewann sie 1991 den 1. Preis bei dem Internationalen Fes
 tival der Musikensemble in Neerpelt\, 1995 den 2. Preis im XVII Bachwettbe
 werb in Polen und 1997 den 1. Preis in dem Allgemeinpolnischen Wettbewerb 
 für Streicher in Posen.\n\n1997 gab sie eine Reihe von Solorezitals im Ra
 hmen des Festivals „Verständigung“ im Zyklus „Junge Talente“ unte
 r der Schirmherrschaft von Kurt Masur mit Prof. Peter Schmalfuss und Prof.
  Alicja Faryniarz Sie hat ihr Studium im Jahr 2003 in der Hochschule für 
 Musik und Theater in Hamburg in der Violinklasse Prof. Petru Munteanu und 
 Prof. Albrecht Breuninger mit Diplom abgeschlossen.\n\n2005 absolvierte si
 e das Aufbaustudium in der Robert Schumann Musikhochschule in Düsseldorf 
 in der Violinklasse Prof. Wolfgang Rausch mit dem Orchesterexamen des Orch
 esterzentrums NRW Dortmund. Sie besuchte Meisterkurse bei Prof. Eberhard F
 eltz und Prof. Valery Gradov. Sie gibt Konzerte im In- und Ausland im Rahm
 en der Solorezitals\, Kammermusikabende und ist als Orchestermusikerin tä
 tig. Sie wirkte mit als Konzertmeisterin der Jungen Kammerphilharmonie Ham
 burg und in dem Wandsbeker Kammerorchester. Nach dem absolvierten Praktiku
 m in der Mecklenburgischen Staatskapelle in Schwerin  war sie als Violinis
 tin tutti im  Symphonieorchester der Stadt Münster\, Beethoven Orchester 
 Bonn\,  Oldenburgischen Staatsorchester  und in den Jungen Kammersolisten 
 Hamburg\, als stellvertretende Stimmführerin der 2. Violine und 1.Violini
 stin tutti im Noord Nederlands Orkest  und als 1. Violinistin tutti bei de
 n  Bielefeldern Philharmonikern  beschäftigt.\n
END:VEVENT
END:VCALENDAR