BEGIN:VCALENDAR
VERSION:2.0
PRODID:-//wp-events-plugin.com//7.2.3.1//EN
BEGIN:VEVENT
UID:27@synagoge-ahrweiler.eu
DTSTART:20190331T170000Z
DTEND:20190331T170000Z
DTSTAMP:20190331T114211Z
URL:https://synagoge-ahrweiler.eu/events/konzert-mit-blair-dunlop-aus-engl
 and/
SUMMARY:Konzert mit Blair Dunlop aus England - KONZERT fällt aus !!!!
DESCRIPTION:&nbsp\;\n\n[caption id="" align="alignnone" width="549"] Foto B
 lair Dunlop[/caption]\n\nIn der Ehemaligen Synagoge Ahrweiler gastiert Bla
 ir am 31. März 2019 um 18 Uhr (Kasse 17:30 Uhr). Eintritt: € 12 (€ 10
  ermäßigt).\n\nHorizon-Award-Gewinner Blair Dunlop gehört zu den Song-P
 oeten\, die starke Zeilen und atmosphärische Bilder für Gedanken und Ein
 drücke finden\, gepaart mit virtuosem Gitarrenspiel … Der 26-jährige S
 inger/Songwriter wuchs in Chesterfield\, Derbyshire\, in einer hoch musika
 lischen Familie auf. Beide Eltern sind Profi-Musiker – Vater Ashley Hutc
 hings war unter anderem Gründungsmitglied der Folkrock-Pioniere "Fairport
  Convention" und "Steeleye Span". Blair lebte in einem Haushalt mit zahlre
 ichen Instrumenten und einem ständigen Kommen und Gehen von Musikern\; er
  erlebte seine Eltern früh auf der Bühne und im Studio. Mit sechs Jahren
  erhielt er klassischen Gitarrenunterricht und entwickelte auch schauspiel
 erische Interessen. Als Teenager spielte Blair unter anderem den jungen Wi
 lly Wonka in Tim Burton‘s Verfilmung von "Charlie und die Schokoladenfab
 rik". Doch trotz der ersten Schauspiel-Erfolge wollte Blair Dunlop eigentl
 ich nur eines: sich ganz der Musik widmen. Ein Lehrer erkannte das Talent 
 des jungen Musikers und verhalf ihm zu Aufnahmen einer ersten EP. Bald dar
 auf folgte eine zweite EP und dann sein Debüt-Album „Blight &amp\; Blos
 som“\, für das er bei den BBC Radio 2 Folk Awards 2013 mit dem begehrte
 n Horizon Award ausgezeichnet wurde. Seine drei ersten Alben (Blight &amp\
 ; Blossom\, House of Jacks und Gilded) ernteten begeisterte Reaktionen in 
 der Musikwelt. Mit jedem Album erweiterte Blair seinen musikalischen Horiz
 ont und seine eindrucksvollen Songwriting-Fertigkeiten – und seine Fange
 meinde. Sein neuestes Album „Notes From An Island“ bietet eine zeitgem
 äße Mischung aus gesellschaftspolitischen Einblicken\, sanften Liebesges
 chichten und beeindruckendem virtuosem Gitarrenspiel. Ein wunderbares Werk
  – so die Kritiker. Vor ein paar Monaten war er u.a. mit zwei Mitmusiker
 n bei Radio Bremen zu Gast. Im Frühjahr und Herbst 2019 kommt Blair Dunlo
 p abermals nach Deutschland\, jedoch dann nicht nur für einen Auftritt! 
  Foto von Elly Lucas  Website: http://blairdunlop.com/\n\nReservierungen 
 unter petra.eisenburger@concert-connections.com oder Tel. 0171 4926236.\n\
 nBlair Dunlop\, the award-winning British singer\, songwriter and guitaris
 t\, has now released 3 albums 2 ep’s and toured widely around the globe.
   All of this in a short 4-year career is astounding alone but what sets
  Blair apart from his peers is the lyrical and musical maturity with which
  he writes.  His third album ‘Gilded’ was released in May 2016 on hi
 s own label – Gilded Wings – and was widely acclaimed gaining BBC Radi
 o 2 Playlist status for the two single releases (‘The Egoist’ and ‘3
 56’) both of which were remixed by Ed Harcourt.  Prior to this Blair r
 eleased his acclaimed album ‘House Of Jacks’ in mid 2014 which lived u
 p to the promise of his 2012 debut ‘Blight and Blossom’ (the quality o
 f which contributed to his winning the BBC Radio 2 Horizon Award).  Blai
 r has now cemented his place as one of Britain’s most exciting talents t
 o come from the folk scene. The Guardian stated that the ‘House Of Jacks
 ’ proves Blair is ‘an increasingly adventurous songwriter’\, Uncut r
 eviewed it as ‘thoughtful and exploratory’\, The Independent on Sunday
  described it as ‘fluent\, lamentory and accomplished’ while Q Magazin
 e wrote that House of Jacks is ‘an exciting glimpse of where traditional
  folk might go’.
END:VEVENT
END:VCALENDAR