BEGIN:VCALENDAR
VERSION:2.0
PRODID:-//wp-events-plugin.com//7.2.3.1//EN
BEGIN:VEVENT
UID:5@synagoge-ahrweiler.eu
DTSTART:20181006T180000Z
DTEND:20181006T180000Z
DTSTAMP:20180912T180405Z
URL:https://synagoge-ahrweiler.eu/events/konzert-des-villa-musica/
SUMMARY:KONZERT des Villa Musica
DESCRIPTION:[caption id="" align="aligncenter" width="406"] Foto: Tel Aviv 
 Wind Quintet[/caption]\n\n\nKONZERT des Villa Musica\nMUSIK IN DER SYNAGOG
 E\nTel Aviv Wind Quintet\nTel Aviv Wind Quintet\nRoy Amotz\, Flöte\nYigal
  Kaminka\, Oboe\nDanny Erdman\, Klarinette\nIramar Leshem\, Horn\nNadav Co
 hen\, Fagott\n\nJohann Sebastian Bach: Triosonate Nr. 1\, BWV 525 (Arr. M.
  Rechtman)\nGiuseppe Verdi: Quintett e-Moll (nach dem Streichquartett)\nGi
 oachino Rossini: Sonata Nr. 1\nKurt Weill: Songs aus der Dreigroschenoper\
 nPaul Hindemith: Kleine Kammermusik\, op. 24 Nr. 2\n\nKlassik aus Israel i
 n der Synagoge Ahrweiler\nFünf Weltklasse-Bläser spielen Bach\, Verdi un
 d Weill\nSongs aus der „Dreigroschenoper“\, gespielt von fünf Meister
 bläsern aus Israel – damit locken Villa Musica und der Bürgerverein Sy
 nagoge am Samstag\, 6. Oktober\, 19 Uhr in die Synagoge Ahrweiler. Das „
 Tel Aviv Wind Quintet“ besteht aus fünf Spitzenbläsern der großen isr
 aelischen Orchester. Roy Amotz und Yigal Kaminka glänzen in der Höhe auf
  Flöte und Oboe. Danny Erdman agiert in der Mitte als virtuoser Klarinett
 ist\, während der Hornist Iramar Leshem Klangfülle beisteuert und der Fa
 gottist Nadav Cohen den profunden Bass. So sind die Rollen im klassischen 
 Bläserquintett verteilt. Doch die fünf Israelis agieren nicht nur im Qui
 ntett. Zu dritt spielen sie Bachs erste Orgeltriosonate\, zu viert das ers
 te Bläserquartett von Gioachino Rossini. Zu fünft brillieren sie in Verd
 is e-Moll-Streichquartett\, übertragen auf Bläser-Quintett. Nach der Pau
 se sorgen „Mackie Messer“ und andere Evergreens aus der „Dreigrosche
 noper“ für einen launigen Ausflug in die „Goldenen Zwanziger Jahre“
 . Dazu passen auch die kessen Töne in Paul Hindemiths „Kleiner Kammermu
 sik“.\n\n\nEintritt: 20 €\, ermäßigt (nur Abendkasse) 10 €\, Kinde
 r und Jugendliche bis 18 Jahre: 6 €. Abendkasse: 18.30 Uhr. Vorverkauf (
 20 €) bei den Geschäftsstellen Ahrweiler und Bad Neuenahr der Kreisspar
 kasse Ahrweiler.\n\nKartenreservierung: Gerd Weigl 02641-13 39 -  gerd.we
 igl@t-online.de\n\n\n\n\n\n\n
CATEGORIES:Konzert
END:VEVENT
END:VCALENDAR