BEGIN:VCALENDAR
VERSION:2.0
PRODID:-//wp-events-plugin.com//7.2.3.1//EN
BEGIN:VEVENT
UID:32@synagoge-ahrweiler.eu
DTSTART:20190615T180000Z
DTEND:20190615T220000Z
DTSTAMP:20190401T091054Z
URL:https://synagoge-ahrweiler.eu/events/konzert-der-villa-musica-mendelss
 ohn-fuer-streicher/
SUMMARY:Konzert der Villa Musica: Mendelssohn für Streicher
DESCRIPTION:Miguel da Silva\, Viola und Junge Streichquartette der Villa Mu
 sica\n\n\n\n\nSchuberts schönstes Quartett in der Synagoge Ahrweiler\nStr
 eichquartett aus Barcelona mit Romantik pur\nDas schönste Streichquartett
  von Franz Schubert ist am Samstag\, 15. Juni\, 19 Uhr in der Synagoge Ahr
 weiler zu hören. Das junge „Gerhard Quartett“ aus Barcelona spielt da
 s grandiose G-Dur-Quartett D 887\, das Schubert zwei Jahre vor seinem Tod 
 komponiert hat. Wie eine Sinfonie für vier Streicher setzt der erste Satz
  ein\, ein majestätisches Moderato\, gefolgt von einem traurigen Andante 
 in e-Moll\, einem wilden Scherzo in h-Moll und einem mitreißenden Finale.
  Dabei schwankt die Musik vom ersten Akkord an zwischen Dur und Moll\, Erl
 ösung und Verzweiflung. Die vier jungen Katalanen aus Barcelona haben ihr
 e Kunst bei Meistern des Streichquartetts wie Günter Pichler in Madrid ge
 lernt. Seit 2018 werden sie von der Landesstiftung Villa Musica gefördert
 \, die sie auch in Bad Neuenahr-Ahrweiler präsentiert. Dabei sind alle Vi
 er auch solistisch Preisträger wichtiger Wettbewerbe: Lluís Castán Coch
 s und Judit Bardolet Vilaró an den Violinen\, Miquel Jordà Saún an der 
 Viola und Jesús Miralles Roger am Cello. Nach der Pause spielen die vier 
 jungen Musiker mit einem der größten Bratschisten unserer Zeit\, Miguel 
 de Silva\, das mitreißende zweite Streichquartett von Felix Mendelssohn (
 B-Dur\, op. 87). Romantik pur in der Synagoge\, interpretiert von jungen S
 treichern auf dem Weg zur Weltklasse.\nTickets kosten 20 €\, für Kinder
  und Jugendliche bis 18 Jahre 6 €. Vorverkauf bei der Geschäftsstellen 
 Ahrweiler und Bad Neuenahr der Kreissparkasse Ahrweiler. (0 26 41 / 38 00 
 oder 0 26 41 / 7 57 30) und bei Villa Musica in Mainz (06131 / 9251800\; w
 ww.villamusica.de).\nGerhard Quartett (Barcelona) mit Miguel da Silva\, Vi
 ola\nFelix Mendelssohn: Streichquintett B-Dur\, op. 87\nFranz Schubert: St
 reichquartett G-Dur\, D 887\nSamstag\, 15.06.2019\, 19 Uhr    Bad Neuen
 ahr-Ahrweiler\, Synagoge Ahrweiler\n\nKontakt\n\nehemalige Synagoge Ahrwei
 ler\nAltenbaustr.12a\n53474 Bad Neuenahr- Ahrweiler\nInternet: https://www
 .synagoge-ahrweiler.eu\n\n\n\n\n&nbsp\;\n\n
END:VEVENT
END:VCALENDAR