BEGIN:VCALENDAR
VERSION:2.0
PRODID:-//wp-events-plugin.com//7.2.3.1//EN
BEGIN:VEVENT
UID:138@synagoge-ahrweiler.eu
DTSTART:20241026T173000Z
DTEND:20241026T190000Z
DTSTAMP:20241022T151645Z
URL:https://synagoge-ahrweiler.eu/events/klavierkonzert-mit-jonas-becker/
SUMMARY:Filmmusik von Hans Zimmer - am Klavier mit Jonas Becker
DESCRIPTION:\n\nAbendkasse: Eintritt 20.- Euro \n\nAm Samstag\, dem 26. Ok
 tober\, 18.30 Uhr\, können Sie in der ehemaligen Synagoge Ahrweiler einen
  Klavierabend der besonderen Art erleben: Die Filmmusik von Hans Zimmer\, 
 gespielt von Jonas Becker. Musikbegeisterte\, Klavierliebhaber und Filment
 husiasten allen Alters sind eingeladen\, sich auf eine nie dagewesene Inte
 rpretation bewegender Momente der Filmgeschichte zu freuen. Das Repertoire
  bedient sich dabei einer breiten Auswahl bedeutender Werke des zweifachen
  Oscar-Preisträgers und reicht von Klassikern der späten 80er-Jahre\, wi
 e Rain Man\, über Filme wie Der König der Löwen\, Gladiator\, Fluch der
  Karibik\, Inception und Interstellar\, bis hin zu seinem letzten großen 
 Erfolg mit Dune - Part 2 zu Beginn diesen Jahres. Kommen Sie mit auf eine 
 Reise durch über 35 Jahre Filmmusik und genießen Sie mitreißende Geschi
 chten und Emotionen auf 88 Tasten.\n\nHans Zimmer zählt mit seiner Musik 
 für über 150 Filme zu den erfolgreichsten Komponisten unserer Zeit. Der 
 in Frankfurt am Main geborene Deutsch-Amerikaner war bereits seit Beginn d
 er 1980er-Jahre gemeinsam mit Stanley Myers an der Vertonung verschiedener
  Filme beteiligt. Sein großer Durchbruch gelang ihm im Jahr 1988 mit der 
 Filmmusik für Barry Levinsons Rain Man\, welche ihm seine erste Oscar-Nom
 inierung bescherte\; elf weitere sollten folgen. In den 1990er-Jahren übe
 rzeugte Zimmer vor allem durch seine innovative Kombination aus Orchester 
 und Synthesizer\, mit welcher er zu einem neuartigen Stil der Actionfilm-V
 ertonung beitrug. 1994 schrieb er die Musik zu Disneys Der König der Löw
 en und gewann im Jahr darauf seinen ersten Oscar in der Kategorie Beste Fi
 lmmusik.\n\nIn den 2000er- und 2010er-Jahren schuf Zimmer\, beginnend mit 
 Ridley Scotts Gladiator\, eine Vielzahl filmmusikalischer Meilensteine\, d
 eren Popularität bis heute anhält. Gemeinsam mit Regisseur Christopher N
 olan setzte der Komponist neue Maßstäbe: Batman Begins markierte 2005\, 
 gefolgt von The Dark Knight im Jahr 2008\, den Start einer neuen Ära der 
 Action- und Comic-Verfilmungen. Mit Inception und Interstellar sicherte si
 ch das Duo aus Meister-Regisseur und Star-Komponist 2010 und 2014 mit zwei
  in Science-Fiction und Action gebetteten Charakter-Dramen einen Platz unt
 er den ganz Großen Hollywoods. Daneben komponierte Hans Zimmer für Filme
  wie Der letzte Samurai\, King Arthur\, Ron Howards Der Da Vinci Code oder
  Guy Richies Sherlock Holmes\, aber auch für Animationsfilme wie Madagasc
 ar\, Kung Fu Panda oder Rango. Die größte Bekanntheit erlangte der Kompo
 nist wahrscheinlich durch seine Zusammenarbeit mit Gore Verbinski an desse
 n Fluch der Karibik-Trilogie. Im Jahr 2022 erhielt Zimmer seinen zweiten O
 scar für die Filmmusik zu Denis Villeneuves Dune. \n\nSeit 2016 tritt de
 r Filmkomponist gemeinsam mit befreundeten Musikerinnen und Musikern weltw
 eit auf und präsentiert seine Musik live vor Publikum. Dabei steht er nic
 ht etwa als Dirigent vor Orchester und Band\, sondern spielt als teil dies
 er mal Klavier\, mal Gitarre oder Banjo. Hans Zimmers Musik und sein Stil 
 sind aus der Filmwelt nicht mehr wegzudenken und beeinflussen seit über 3
 5 Jahren den Klang Hollywoods. Er selbst ist zum Weltstar gereift und bege
 istert jedes Jahr Millionen Menschen im Kino oder auf der Bühne.\n\nJonas
  Becker begann mit dem Klavierspiel im Alter von sechs Jahren und fand au
 ßerhalb des klassischen Unterrichts schnell eine Begeisterung für die Mu
 sik im Film. Früh zeigte sich neben seiner Leidenschaft am Instrument sei
 ne Fähigkeit als Autodidakt: Bereits mit acht Jahren arrangierte und inte
 rpretierte er Filmmusik\, die er kurz zuvor im Kino erstmals gehört hatte
 . Hans Zimmers Musik spielte dabei für den jungen Pianisten eine ganz bes
 ondere Rolle. „Mein Vater hatte ein Thema aus Fluch der Karibik als Klin
 gelton auf dem Handy. Das war so cool\, das wollte ich unbedingt auch spie
 len.“ Während seiner Jugend arrangierte Becker die Musik zahlreicher Fi
 lme für Klavier und machte sich so außerhalb des Unterrichts mit den gro
 ßen Komponisten Hollywoods vertraut.\n\nMit 14 Jahren wechselte er schlie
 ßlich an die Sinziger Musikschule\, an welcher der Musiker sich pianistis
 ch frei entfalten konnte\, erste Erfahrungen vor Publikum sammelte und von
  2019 bis 2021 selbst als Lehrer für Klavier unterrichtete. In dieser Zei
 t konnte der junge Künstler neben der Förderung durch das eigene Elternh
 aus\, stets auf die Unterstützung seines ehemaligen Lehrers und Mentors T
 homas Rohde\, sowie seines Freundes und Singer-Songwriter Christoph Rieger
  bauen.\n\nAufgrund einer Belastungs- und Panikstörung\, als Folge der Fl
 ut im Jahr 2021 und der dadurch verursachten körperlichen Symptome\, gab 
 Becker seine Tätigkeit als Lehrer und Pianist 2023 vorerst auf. „Ich ha
 tte Ticks im Arm und meine Hände haben ständig gezittert. Wenn es ganz s
 chlimm war\, habe ich sogar angefangen zu stottern. Das Klavierspielen war
  mir meist nur erschwert und oft gar nicht möglich.“ Erst der Aufenthal
 t in einer psychosomatischen Klinik im Frühjahr 2024 brachte Besserung. S
 either ist der junge Pianist bestrebt\, gesundheitlichen Problemen zum Tro
 tz seinem Traum nachzugehen und öffentlich aufzutreten.\n\nAbendkasse: Ei
 ntritt 20.- Euro \n
ATTACH;FMTTYPE=image/jpeg:https://synagoge-ahrweiler.eu/wp-content/uploads
 /2024/09/Jonas-Becker-Klavier-Portrait-scaled.jpg
CATEGORIES:Konzert
END:VEVENT
END:VCALENDAR