BEGIN:VCALENDAR
VERSION:2.0
PRODID:-//wp-events-plugin.com//7.2.3.1//EN
BEGIN:VEVENT
UID:164@synagoge-ahrweiler.eu
DTSTART:20260124T183000Z
DTEND:20260124T210000Z
DTSTAMP:20251218T164756Z
URL:https://synagoge-ahrweiler.eu/events/klaenge-und-maerchen-fuer-den-fri
 eden/
SUMMARY:Klänge und Märchen für den Frieden
DESCRIPTION:\n\n\nKlänge und Märchen für den Frieden - "faeden"\nEintrit
 t frei - Spenden erbeten \nAm 24.01.2026\, dem Samstag vor dem Internatio
 nalen Holocaustgedenktag am 26.01.2025\, gestalten wir in der Synagoge Ahr
 weiler einen musikalischen Märchenabend für Erwachsene. Der Pianist Thom
 as Lambrich (Hamburg/Suvereto) wird mit den Stücken seines Albums „fæd
 en“ die Geschichten der Märchenerzählerin Anke Stentzel (Osnabrück) u
 ntermalen. Ihre Erzählungen aus aller Welt werden zu diesem besonderen An
 lass das Thema Frieden zum Gegenstand haben.Die Klänge und Märchen sind 
 getragen von dem Geist\, dass alle Menschen\, alle Orte und Dinge auf der 
 Welt und darüberhinaus durch unsichtbare Fäden miteinander verbunden sin
 d. Manche Fäden sind dünner\, manche sind dicker\, manche Fäden bleiben
  ewig im Verborgenen\, andere treten irgendwann zu Tage. Sie existieren au
 ch dann weiter\, sollten sie irgendwann einmal abgeschnitten werden. Durch
  dieses unendliche Netz von Fäden ist alles mit allem zu einem großen Ga
 nzen verbunden\, wird alles eins.\n\nAnke Stentzel\, verheiratet und stolz
 e Mutter einer Tochter und zweier Söhne sowie Oma einer kleinen Enkeltoch
 ter\, ist leidenschaftliche Märchenerzählerin aus Osnabrück. Nach Täti
 gkeiten in verschiedenen Berufsfeldern\, u.a. fast 20 Jahre als Grundschul
 lehrerin\, hat sie eine Ausbildung als Märchenerzählerin und eine zweite
  Erzählausbildung „Heilsames Erzählen“ abgeschlossen. Mit ihrem Mär
 chenkoffer besucht sie Märchenbegeisterte in Schulen\, Kindertagesstätte
 n\, Krankenhäusern und anderen Einrichtungen. Insbesondere bietet sie spe
 zielle Märchenprogramme für Erwachsene dar. „Märchen für Erwachsene 
 sind eine Gelegenheit\, sich in die Welt der Fantasie zurückzuziehen\, zu
 r inneren Reflexion angeregt zu werden und sich von den zeitlosen Weisheit
 en der Geschichten berühren zu lassen“\, verspricht Anke.\n\nThomas Lam
 brich ist Komponist und Pianist aus Hamburg und Suvereto (Toskana). Er ler
 nte bereits als Kind neben Klavier auch Cembalo und Kirchenorgel. Es waren
  die Kompositionen Johann Sebastian Bachs\, die ihn besonders faszinierten
 . Obwohl die Musik die erste große Liebe seines Lebens war\, fehlte ihm d
 er Mut\, sie auch zu seinem beruflichen Mittelpunkt zu machen. Zwischenzei
 tlich verlor er sie ganz aus dem Blick. Durch eine wundervolle Fügung hat
  er dem Klavier vor einigen Jahren wieder den zentralen Platz in seinem Le
 ben gegeben. Sein Debut-Album „Suoni di colore“ hat er am 3.5.2024 in 
 der Synagoge Ahrweiler präsentiert. Nach weiteren Single-Veröffentlichun
 gen erschien im Juni dieses Jahres sein zweites Album „fæden“\, aus d
 em er an diesem Abend spielen wird. Er erklärt: „Ich möchte die Mensch
 en mit meiner gefühlvollen Klaviermusik zu einer Klangreise einladen\, di
 e sie für einige Momente in die Stille und damit zu sich selbst führt.\n
 \n\nEintritt frei - Spenden erbeten \n
ATTACH;FMTTYPE=image/jpeg:https://synagoge-ahrweiler.eu/wp-content/uploads
 /2024/03/Thomas-Lambricht.jpeg
CATEGORIES:Gedenkveranstaltung
END:VEVENT
END:VCALENDAR