BEGIN:VCALENDAR
VERSION:2.0
PRODID:-//wp-events-plugin.com//7.2.3.1//EN
BEGIN:VEVENT
UID:21@synagoge-ahrweiler.eu
DTSTART:20200104T190000Z
DTEND:20200104T190000Z
DTSTAMP:20191219T080822Z
URL:https://synagoge-ahrweiler.eu/events/joachim-gies-ein-magier-der-klaen
 ge-in-plannung/
SUMMARY:Joachim Gies – Ein Magier der Klänge
DESCRIPTION:Joachim Gies – Ein Magier der Klänge\n“Belausche die Stern
 e”                                   
                               Konzert mit Joa
 chim Gies\, Saxophon\n“Hören\, horchen und lauschen werden neu erlebt.
 ”\n\nEintritt: 10/8 €\n\nDie Musik von Joachim Gies zeichnet sich dur
 ch große Klangvielfalt und Sensibilität aus. Wie ein Klangmagier nimmt 
 er die Zuhörer mit auf eine Suche nach zarten\, unverbrauchten Klängen.
  Seine Solokonzerte sind eine Suche nach der Harmonie des inneren Schwing
 ens. Wenn er zum Saxophon greift\, kehrt eine beinahe meditative Stimmung 
 ein. Der Titel seines Konzerts ist Programm: BELAUSCHE DIE STERNE heißt
 \, wie in Trance das Entfernte und das Nahe zu belauschen.\n\nSein neues 
 Soloprogramm nimmt die Eindrücke einer Islandreise mit auf. Wie schon fr
 ühere Konzertreisen nach Sibirien und in die Mongolei führt die Weite un
 d Ruhe der unberührten Landschaften zur Konzentration auf den Ursprung de
 r Klänge. Joachim Gies spielte in buddhistischen Klöstern und in der Wü
 ste Gobi und trat dort mit einheimischen Musikern/innen auf. Die ruhige In
 tensität asiatischer Klänge verbindet der Musiker und Komponist mit neue
 n überraschenden Spielweisen des Saxophons.\n\n  \n\nFoto: Lothar Schne
 eberger\n\n\n\n\n\n\nDer Multiinstrumentalist spielt in seinen Solokonzert
 en neben dem Saxophon eine Vielzahl von exotischen Instrumenten. Mit Heuls
 chlauch\, Melodika und Mundharmonika ruft er Kindheitserinnerungen wach. A
 ußereuropäische Instrumente wie die pakistanische Rahmentrommel\, afrik
 anische Perkussionsinstrumente und asiatische Gongs eröffnen ursprünglic
 he Rhythmen und eotische Klangräume. Auch neu entwickelte Instrumente kom
 men zum Einsatz\, so die Butthan\, die an balinesische Gamelanorchester er
 innert und das Aquaphone\, das subtile Wasserklänge entfaltet. In der Ve
 rbindung von alten Klangfeldern und avancierten Spieltechniken ist Joachim
  Gies auf dem Weg\, sowohl die Vergangenheit zu belauschen als auch Kläng
 e der Zukunft zu erahnen.\n\nJoachim Gies begleitet auch Lesungen und Auss
 tellungen. Neben seiner Kammermusik bilden Literaturvertonungen\, Filmmusi
 k und Hörspiele weitere Schwerpunkte seines Schaffens. Seine Literaturver
 tonungen von Kafka\, Nietzsche\, Hölderlin\, Rilke u.a. wurden mit Tina E
 ngel\, Angela Winkler\, Gerd Wameling und Hanns Zischler aufgeführt. Er g
 ab Konzerte in Europa und Asien (MoersFestival\, Roaring Hooves\, Mongolei
 ) mit Lauren Newton\, Cecil Taylor und Ernst-Ludwig Petrowsky. 2012 erhiel
 t Gies den Kompositions-Förderpreis der A und A Kulturstiftung. 2015 erte
 ilte die Stiftung einen weiteren Kompositionsauftrag mit Hölderlin-Verton
 ungen\, die 2016 uraufgeführt wurden. Der Konzertmitschnitt ist 2017 auf 
 der CD „… es fehlet an Gesang\, der löset den Geist“ bei Rime-Recor
 ds erschienen.\n\nWeitere Einblicke in sein Schaffen auf der Künstlerhome
 page http://joachimgies.de/\n\n\n\n
CATEGORIES:Konzert
END:VEVENT
END:VCALENDAR