BEGIN:VCALENDAR
VERSION:2.0
PRODID:-//wp-events-plugin.com//7.2.3.1//EN
BEGIN:VEVENT
UID:51@synagoge-ahrweiler.eu
DTSTART:20191123T180000Z
DTEND:20191123T180000Z
DTSTAMP:20190802T153226Z
URL:https://synagoge-ahrweiler.eu/events/israeli-chamber-projekt-villa-mus
 ica/
SUMMARY:Israeli Chamber Projekt - Villa Musica
DESCRIPTION:
CATEGORIES:Konzert
END:VEVENT
END:VCALENDAR