BEGIN:VCALENDAR
VERSION:2.0
PRODID:-//wp-events-plugin.com//7.2.3.1//EN
BEGIN:VEVENT
UID:123@synagoge-ahrweiler.eu
DTSTART:20240604T180000Z
DTEND:20240604T193000Z
DTSTAMP:20240522T165844Z
URL:https://synagoge-ahrweiler.eu/events/himmelsklaenge-offenes-singen-spi
 ritueller-lieder-in-der-synagoge-bad-neuenahr-ahrweiler-die-pure-freude-3/
SUMMARY:Himmelsklänge – Offenes Singen spiritueller Lieder in der Synago
 ge Bad Neuenahr-Ahrweiler – die pure Freude
DESCRIPTION:\n\nEinmal monatlich treffen sich künftig Menschen\, die Freud
 e am gemeinsamen Singen haben\, in der Synagoge Bad Neuenahr-Ahrweiler fü
 r 90 Minuten zu „Himmelsklänge – Offenes Singen spiritueller Lieder
 “. Unter erfahrener Anleitung von Susanne und Marcus Hartmanns\, entsteh
 t dabei schnell eine gelöste und harmonische Atmosphäre. Dazu tragen auc
 h der liebevoll gestaltete Synagogenraum und die Live-Musik mit Gitarre\, 
 Akkordeon und Keyboard bei. „Mit den Himmelsklängen möchten wir noch m
 ehr Leben in unsere Synagoge bringen\, und als Mitglieder von „Il canto 
 del mondo“ – einem internationalen Netzwerk zur Förderung der Alltags
 kultur des Singens e.V“ wissen wir\, dass Singen unsere Lebensfreude\, u
 nser Mitgefühl und die Gemeinschaft stärkt“\, so Marcus Hartmanns. Wir
  singen die schönsten spirituellen Lieder unterschiedlicher Kulturen\, Sp
 rachen und Religionen. Diese kurzen\, sehr eingängigen und leicht zu erle
 rnenden Lieder haben die Kraft und Magie\, uns auf neue Weise zum Singen z
 u bringen. „Es geht darum\, aus vollem Herzen zu singen\, den eigenen K
 örper zu spüren und eine Verbindung zu innerer Kraft und Lebensenergie h
 erzustellen“\, betont Susanne Hartmanns „ohne Leistungsanspruch und oh
 ne Notenblätter\, Vorkenntnisse sind nicht erforderlich.“ Die einprägs
 amen Melodien und Texte werden zunächst Zeile für Zeile wiederholt vorge
 sungen\, bis sie ins Unterbewusstsein dringen. So kann jeder nach kurzer Z
 eit auch mit geschlossenen Augen mitsingen und sich ganz einlassen. Die en
 tstehende Dynamik der Singenden wird aufgegriffen und mit Keyboard\, Gitar
 re oder Akkordeon durch Rhythmus- und Lautstärkewechsel gestaltet. Die du
 rchweg respektvollen und achtsamen Verse sind voller Dankbarkeit und Liebe
  und ihre stetige Wiederholung schafft diese meditative und spirituelle At
 mosphäre. Die Teilnahmegebühr beträgt 15 € Euro\, davon entfallen 5 
 € zur Unterstützung des Synagogenvereins. Eine erste „Schnupperstunde
 “ ist frei. Die Termine für das Jahr 2024 sind immer am ersten Dienstag
  im Monat: 02. April\, 07. Mai\, 04. Juni\, 02. Juli\, 06. August\, 03. Se
 ptember\, 01. Oktober\, und 05. November 2024\, jeweils 19:00 Uhr bis ca. 
 20:30 Uhr. Anmeldung und weitere Informationen unter marcus.hartmanns@web.
 de oder Telefon 02643 9048641 bzw. 0177 6801846.\n\nEinmal monatlich treff
 en sich künftig Menschen\, die Freude am gemeinsamen Singen haben\, in de
 r Synagoge Bad Neuenahr-Ahrweiler für 90 Minuten zu „Himmelsklänge –
  Offenes Singen spiritueller Lieder“. Unter erfahrener Anleitung von Sus
 anne und Marcus Hartmanns\, entsteht dabei schnell eine gelöste und harmo
 nische Atmosphäre. Dazu tragen auch der liebevoll gestaltete Synagogenrau
 m und die Live-Musik mit Gitarre\, Akkordeon und Keyboard bei. „Mit den 
 Himmelsklängen möchten wir noch mehr Leben in unsere Synagoge bringen\, 
 und als Mitglieder von „Il canto del mondo“ – einem internationalen 
 Netzwerk zur Förderung der Alltagskultur des Singens e.V“ wissen wir\, 
 dass Singen unsere Lebensfreude\, unser Mitgefühl und die Gemeinschaft st
 ärkt“\, so Marcus Hartmanns. Wir singen die schönsten spirituellen Lie
 der unterschiedlicher Kulturen\, Sprachen und Religionen. Diese kurzen\, s
 ehr eingängigen und leicht zu erlernenden Lieder haben die Kraft und Magi
 e\, uns auf neue Weise zum Singen zu bringen. „Es geht darum\, aus volle
 m Herzen zu singen\, den eigenen Körper zu spüren und eine Verbindung zu
  innerer Kraft und Lebensenergie herzustellen“\, betont Susanne Hartmann
 s „ohne Leistungsanspruch und ohne Notenblätter\, Vorkenntnisse sind ni
 cht erforderlich.“ Die einprägsamen Melodien und Texte werden zunächst
  Zeile für Zeile wiederholt vorgesungen\, bis sie ins Unterbewusstsein dr
 ingen. So kann jeder nach kurzer Zeit auch mit geschlossenen Augen mitsing
 en und sich ganz einlassen. Die entstehende Dynamik der Singenden wird auf
 gegriffen und mit Keyboard\, Gitarre oder Akkordeon durch Rhythmus- und La
 utstärkewechsel gestaltet. Die durchweg respektvollen und achtsamen Verse
  sind voller Dankbarkeit und Liebe und ihre stetige Wiederholung schafft d
 iese meditative und spirituelle Atmosphäre. Die Teilnahmegebühr beträgt
  15 € Euro\, davon entfallen 5 € zur Unterstützung des Synagogenverei
 ns. Eine erste „Schnupperstunde“ ist frei. Die Termine für das Jahr 2
 024 sind immer am ersten Dienstag im Monat: 02. April\, 07. Mai\, 04. Juni
 \, 02. Juli\, 06. August\, 03. September\, 01. Oktober\, und 05. November 
 2024\, jeweils 19:00 Uhr bis ca. 20:30 Uhr. Anmeldung und weitere Informat
 ionen unter marcus.hartmanns@web.de oder Telefon 02643 9048641 bzw. 0177 6
 801846.
ATTACH;FMTTYPE=image/jpeg:https://synagoge-ahrweiler.eu/wp-content/uploads
 /2024/03/Foto-fuer-Synagoge_Susanne-und-Marcus.jpg
CATEGORIES:Konzert
END:VEVENT
END:VCALENDAR