BEGIN:VCALENDAR
VERSION:2.0
PRODID:-//wp-events-plugin.com//7.2.3.1//EN
BEGIN:VEVENT
UID:37@synagoge-ahrweiler.eu
DTSTART:20190411T180000Z
DTEND:20190411T180000Z
DTSTAMP:20190404T123326Z
URL:https://synagoge-ahrweiler.eu/events/hexenverfolgung-in-ahrweiler-neue
 r-forschungsstand/
SUMMARY:Hexenverfolgung in Ahrweiler - neuer Forschungsstand
DESCRIPTION:\n\nDer Hexenverfolgung in Ahrweiler - neuer Forschungsstand“
  von Hans-Georg Klein\n\nEintritt frei.\n\nEin Vortrag von Hans-Georg Klei
 n im Rahmen der historischen Vortragsreihe des Heimatvereins \,\,Alt-Ahrwe
 iler" Neue Quellenfunden lassen die Zeit der Hexenverfolgung in der ersten
  Hälfte des 17. Jahrhunderts in einem neuen Licht erscheinen. Der Referen
 t weist nach\, dass die Hexenverfolgung in unserer Stadt in erster Linie v
 on der Bevölkerung selbst ausgelöst und betrie-ben wurde. Es kam wegen d
 er scheinbaren Säumigkeit des Rates und des Schöffengerichtes unter den 
 Bürgern zu tumultartigen Aufläufen und zu einem Steuerstreik. Der Hexena
 usschuss setz1e schließlich die Verfolgung der Hexen durch\, um größere
 n Scha-den\, wie er argumentierte\, von der Stadt und ihren Menschen abzuw
 enden. Der Referent zeigt an Hand der Ratsprotokolle und eines Prozesses v
 or dem Bonner Hofrat\, wie dieses .Große Brennen" aus Hyste-rie\, Angst u
 nd Missgunst geschehen konnte\, das über 70 Menschen in Ahrweiler das Leb
 en kostete. Das war aber den im Hexen-ausschuss agierenden Bürgern immer 
 noch nicht genug. Selbst als der Bonner Hofrat die Hexenprozesse in Ahrwei
 ler einstellen ließ\, protestierten namentlich bekannte Bürger heftig.\n
 \nDer Vorstand des Heimatvereins würde sich über Ihr Interesse freuen.
CATEGORIES:Vortrag
END:VEVENT
END:VCALENDAR