BEGIN:VCALENDAR
VERSION:2.0
PRODID:-//wp-events-plugin.com//7.2.3.1//EN
BEGIN:VEVENT
UID:44@synagoge-ahrweiler.eu
DTSTART:20190711T180000Z
DTEND:20190711T180000Z
DTSTAMP:20190802T152701Z
URL:https://synagoge-ahrweiler.eu/events/heimatverein-alt-ahrweiler-quelle
 n-zur-geschichte/
SUMMARY:Heimatverein „Alt-Ahrweiler“ Quellen zur Geschichte
DESCRIPTION:
END:VEVENT
END:VCALENDAR