BEGIN:VCALENDAR
VERSION:2.0
PRODID:-//wp-events-plugin.com//7.2.3.1//EN
BEGIN:VEVENT
UID:73@synagoge-ahrweiler.eu
DTSTART:20200913T150000Z
DTEND:20200913T170000Z
DTSTAMP:20200914T181015Z
URL:https://synagoge-ahrweiler.eu/events/guten-tag-herr-steh-uns-bei-open-
 air-konzert-der-ehemaligen-synagoge-ahrweiler/
SUMMARY:„Guten Tag\, Herr\, steh uns bei“-  Open Air Konzert der Ehemal
 igen Synagoge Ahrweiler
DESCRIPTION:Zum Tag des Offenen Denkmals möchte der Vorstand des Bürgerve
 reins der Ehemaligen Synagoge Ahrweiler ein Zeichen setzen und zeigen\, da
 ß der Verein auch in Corona Zeiten weiterhin gegen Ausgrenzung\, Rassismu
 s und Antisemitismus arbeitet und\, daß das Herz auch zukünftig für die
  Kultur und insbesondere die Musik schlägt.\n\nAus diesem Grund wird das 
 Tschida-Ensemble mit Alexandra Felizitas Tschida und Petra Schwarzkopf als
  Sängerinnen und Ilse Kösling als Pianistin Ausschnitte aus ihrem jüdis
 chen Programm Life und Open Air darbringen.\n\nGezeigt wird ein Querschnit
 t jüdischer Komponisten und Komponistinnen und ihrer Musik\, die bis heut
 e in unseren Herzen überlebt hat und uns Trost und Hoffnung schenkt.\n\n\
 n\nMit Leidenschaft interpretiert das Trio Werke u.a. von F.M. Bartholdy\,
  F. Hensel\, Ilse Weber\, Felicitas Kukuck\, aber auch Songs u.a. von den 
 Comedian Harmonists\, L. Bernstein und G. Gershwin.\n\nDie Künstlerinnen 
 werden mehrere kurze Musikblöcke spielen\, so daß man zwischendurch an F
 ührungen in der Synagoge in Kleingruppen teilnehmen kann.\n\nDie Veransta
 ltung wird unterstützt von der Stadt Bad Neuenahr-Ahrweiler\, der es wich
 tig ist in diesen aktuell schwierigen Zeiten Kultur zu fördern.\n\n 	Das 
 Konzert findet selbstverständlich unter Corona-Bedingungen statt und nur 
 bei trockenem Wetter.\n 	Ort: Vorplatz Weißer Turm gegenüber der Ehemal
 igen Synagoge\n 	Der Eintritt ist frei\, es darf gespendet werden.\n 	Anme
 ldungen bitte unter kontakt@buergerverein-Synagoge.de\n\n 	\n
CATEGORIES:Konzert
END:VEVENT
END:VCALENDAR