BEGIN:VCALENDAR
VERSION:2.0
PRODID:-//wp-events-plugin.com//7.2.3.1//EN
BEGIN:VEVENT
UID:34@synagoge-ahrweiler.eu
DTSTART:20191116T190000Z
DTEND:20191117T213000Z
DTSTAMP:20191029T185206Z
URL:https://synagoge-ahrweiler.eu/events/goethe-11-studio-zeigt-seinen-neu
 esten-film/
SUMMARY:Goethe-11-Studio zeigt seinen neuesten Film
DESCRIPTION:Goethe-11-Studio zeigt seinen neuesten Film\nEs wird die neue s
 chrille Film-Satire von Wolfgang Arends über zwei Wanderer im Ahrtal geze
 igt\; Titel: DIE AHR IST IHR SCHICKSAL\n\nZwei Wanderer wollen den Rotwein
 wanderweg entlang gehen und werden unfreiwillig verstrickt in die Entführ
 ung der Burgundia und die Ermittlungen der Wingert-Police\, dabei wird die
  Wandertour für die beiden zum Alptraum.\nEin Spielfilm mit viel Herzblut
  und der Mithilfe vieler einheimischer Bürger sowie eine Hommage an das A
 hrtal.\n\n\n\n
END:VEVENT
END:VCALENDAR