BEGIN:VCALENDAR
VERSION:2.0
PRODID:-//wp-events-plugin.com//7.2.3.1//EN
BEGIN:VEVENT
UID:106@synagoge-ahrweiler.eu
DTSTART:20231109T190000Z
DTEND:20231109T210000Z
DTSTAMP:20231018T105340Z
URL:https://synagoge-ahrweiler.eu/events/gedenkveranstaltung-zu-85-jahre-p
 ogromnacht/
SUMMARY:Gedenkveranstaltung zu 85 Jahre Pogromnacht
DESCRIPTION:Unterwegs von Anatevka nach Zion – Jüdische Musik jenseits v
 on Klezmer\n\n\n\nDer Bürgerverein Synagoge Bad Neuenahr-Ahrweiler e.V. g
 edenkt am Donnerstag\, den 09.11.2023 um 20:00 Uhr dem 85. Jahrestag der P
 ogromnacht. Die Veranstaltung wird musikalisch vom Alexandra Tschida Ensem
 ble gestaltet. Dass man Jüdische Musik nicht nur auf Klezmer reduzieren k
 ann\, beweisen Alexandra Tschida\, Sopran\, Petra Schwarzkopf\, Mezzo-Sopr
 an und Ilse Kösling\, Pianistin\, mit ihrem beeindruckenden und äußerst
  vielseitigem Programm.\nSie spielen u.a. Werke von Felix Mendelssohn-Bart
 holdy\, Fanny Hensel\, Ilse Weber\, Felicitas Kukuck\, Kurt Weill und Geor
 ge Gershwin\, aber auch Songs aus Anatevka\, Yentl\, West Side Story und M
 y Fair Lady\, sowie Schlager der 20er Jahre.\nLieder in Hebräischer Sprac
 he runden das Programm ab.\nMit ihrer Musikauswahl erzählen sie vom Leben
  Jüdischer Komponist*innen vor\, während und nach der Zeit des Naziregim
 es\, wobei ihr Schwerpunkt auf jeden Fall auf dem Leben liegt:\nSie feiern
  das Jüdische Leben in Deutschland und zeigen die Schönheit und Unvergä
 nglichkeit Jüdischer Musik\, und wie sie unsere Musikkultur beinflusst ha
 t.\nWir alle kennen und lieben diese Melodien\, sie sind aus unserer Kultu
 rlandschaft nicht mehr wegzudenken.  (Eintritt frei. Spenden willkommen)
ATTACH;FMTTYPE=image/jpeg:https://synagoge-ahrweiler.eu/wp-content/uploads
 /2023/09/DSC00820-a-b-scaled.jpg
CATEGORIES:Gedenkveranstaltung,Konzert
END:VEVENT
END:VCALENDAR