BEGIN:VCALENDAR
VERSION:2.0
PRODID:-//wp-events-plugin.com//7.2.3.1//EN
BEGIN:VEVENT
UID:8@synagoge-ahrweiler.eu
DTSTART:20181109T190000Z
DTEND:20181109T190000Z
DTSTAMP:20180912T180550Z
URL:https://synagoge-ahrweiler.eu/events/gedenkveranstaltung-80-jahre-pogr
 omnacht-und-40-jahre-buergerverein-synagoge/
SUMMARY:GEDENKVERANSTALTUNG: 80 Jahre Pogromnacht und 40 Jahre Bürgerverei
 n Synagoge
DESCRIPTION:GEDENKVERANSTALTUNG: 80 Jahre Pogromnacht und 40 Jahre Bürgerv
 erein Synagoge.\n\nKonzert der Gruppe AGA+ aus Bonn\n\n[caption id="attach
 ment_2355" align="alignnone" width="456"] Foto: Ralf Schönbach[/caption]\
 n\nAm Freitag\, 09. November gedenkt der Bürgerverein Synagoge Bad Neuena
 hr-Ahrweiler e.V dem 80. Jahrestag der Pogromnacht und des 40. Geburtstage
 s des Bürgervereines\, der exakt am 09. November 1978 gegründet wurde. D
 as Bonner Musikensemble AGA+ mit Gabriella Acsai – Flöte\, Vocals\, Anj
 a Städtler – Violine\, Vocals\, Astrid Kröger-Schönbach – Akkordeon
 \, Vocals und Frederic Schönbach - Kontrabass wird die Gedenkveranstaltun
 g musikalisch gestalten. AGA+ spielt eine Melange aus Klezmer\, Jazz\, Tan
 go und Folk. Das Ensemble AGAplus gründete sich 2013\, um genau diese Sti
 lrichtungen klanglich zu erforschen und zu kombinieren. Mit Akkordeon\, Fl
 öte\, Geige und Kontrabass stehen die MusikerInnen zwischen den üblichen
  Instrumentierungen und versuchen\, genau dies für die eigenen Vorstellun
 gen\, Mischungen und Ideen zu nutzen. Tanzrhythmen mischen sich mit lyrisc
 hen Melodien\, Improvisationen und Gesang\, die Musik führt vom Balkan ü
 ber Ungarn und Russland in die USA und bis nach Argentinien. Zwischen zwei
  Musikblöcken wird es Kurzreferate zu den Themen Pogromnacht\, Synagoge A
 hrweiler und Jüdische Friedhöfe im Ahrtal geben. Der Eintritt zur Verans
 taltung\, die um 20 Uhr beginnt\, ist frei\, Spenden erbeten. Webpage: www
 .AGAplus.de
CATEGORIES:Gedenkveranstaltung,Konzert
END:VEVENT
END:VCALENDAR