BEGIN:VCALENDAR
VERSION:2.0
PRODID:-//wp-events-plugin.com//7.2.3.1//EN
BEGIN:VEVENT
UID:163@synagoge-ahrweiler.eu
DTSTART:20251221T180000Z
DTEND:20251221T200000Z
DTSTAMP:20251112T160417Z
URL:https://synagoge-ahrweiler.eu/events/es-weihnachtet-sehr-weihnachtlich
 e-klaenge-mit-dem-salonensemble-ahrdur/
SUMMARY:Es weihnachtet sehr - Weihnachtliche Klänge mit dem SalonEnsemble 
 A(hr)Dur
DESCRIPTION:FOTO: Ian P. Johnson\n\nAdvent\, Weihnachten ohne Musik undenkb
 ar. Komponisten aller Couleur haben\, besonders in den letzten vierhundert
  Jahren festliche Musik zu den Festtagen geschrieben. Viele Weihnachtslied
 er sind im christlichen Abendland entstanden und wurden im geistlichen Rah
 men und in den Familien gesungen.\nDas SalonEnsemble A(hr)Dur mit Viktoria
  Nyikes und Marion Noll\, (Violine)\, Monika Recker-Johnson\, (Violoncello
 )\, Gisbert Stenz (Klavier und\nModeration) hat ein Programm mit weihnacht
 lichen Klängen und Liedern aus 4 Jahrhunderten zusammengestellt und möch
 te die Zuhörer einstimmen auf die nahen Festtage.\nDas Ganze natürlich o
 hne Verstärkung\, live musizierend.\n\nEintritt frei - Spenden erbeten
ATTACH;FMTTYPE=image/jpeg:https://synagoge-ahrweiler.eu/wp-content/uploads
 /2025/02/Salonensemble-2024-foto-gerd-weigl-scaled.jpg
CATEGORIES:Konzert
END:VEVENT
END:VCALENDAR