BEGIN:VCALENDAR
VERSION:2.0
PRODID:-//wp-events-plugin.com//7.2.3.1//EN
BEGIN:VEVENT
UID:112@synagoge-ahrweiler.eu
DTSTART:20240127T180000Z
DTEND:20240127T200000Z
DTSTAMP:20240116T103454Z
URL:https://synagoge-ahrweiler.eu/events/erich-kaestner-und-die-katastroph
 e-kam/
SUMMARY:Erich Kästner....und die Katastrophe kam
DESCRIPTION:\n\n&nbsp\;\n\n\n\n\n\n&nbsp\;\n\n&nbsp\;
ATTACH;FMTTYPE=image/jpeg:https://synagoge-ahrweiler.eu/wp-content/uploads
 /2023/12/kaestner-synagoge-aw.jpg
CATEGORIES:Konzert
END:VEVENT
END:VCALENDAR