BEGIN:VCALENDAR
VERSION:2.0
PRODID:-//wp-events-plugin.com//7.2.3.1//EN
BEGIN:VEVENT
UID:150@synagoge-ahrweiler.eu
DTSTART:20250912T180000Z
DTEND:20250912T200000Z
DTSTAMP:20250518T160549Z
URL:https://synagoge-ahrweiler.eu/events/ensemble-wortspiel-die-wahrheit-u
 eber-max-und-moritz/
SUMMARY:Ensemble WortSpiel: Die Wahrheit über Max und Moritz
DESCRIPTION:\n\nAch\, was muss man oft von bösen             
                                      
                                      
   Kindern hören oder lesen!          \n\n          
                           \n\n&nbsp\;\n\nDie ber
 ühmteste Bildergeschichte der Welt wird 160 Jahre alt.\n\nDas Ensemble W
 ortSpiel feiert den Geburtstag mit einem neuen Programm für Erwachsene 
 „Die Wahrheit über Max und Moritz“.\n\nSchriftstellerin Iris Schürma
 nn-Mock beantwortet ernst oder augenzwinkernd Fragen über die Erfolgsgesc
 hichte und ihren Autor: Warum hat Wilhelm Busch sie geschrieben? Warum wur
 de sie immer wieder verboten? Und vor allem: Was daran ist wahr und was is
 t erfunden?\n\nDie Cellistin Monika Recker-Johnson und der Akkordeonist Al
 exander Pankov umspielen und vertiefen den Text mal sanft\, mal schwungvol
 l mit Musik von Charly Chaplin\, Edvard Elgar\, Franz Schubert und vielen 
 anderen.\n\nProgrammdauer: 2 Stunden inkl. Pause. Eintritt frei - Spenden 
 erbeten\n\nDie Ensemblemitglieder:\n\nIris Schürmann-Mock (Text) ist Jou
 rnalistin und Autorin. Sie schreibt Sachbücher\, Geschichten\, Gedichte u
 nd Bühnenprogramme für Erwachsene und Kinder. Außerdem veranstaltet sie
  Lesungen mit und ohne Musik. i.schuermann-mock.de\n\nMonika Recker-Johnso
 n (Cello) absolvierte ihr Cellostudium an der Pfälzischen Musikakademie i
 n Speyer. An den Musikschulen in Ladenburg und Schwetzingen war sie als Ce
 llolehrerin und Orchesterleiterin tätig. Seit ihrem Umzug ins Ahrtal 2005
  führt sie in Sinzig ihr eigenes Cellostudio. Sie konzertiert in verschie
 denen Kammermusikensembles und widmet sich der Vertonung von Gedichten.  
                                             
                                             
       www.cello-studio-sinzig.de/\n\nAlexander Pankov (Akkordeon) stud
 ierte Akkordeon an den Musikhochschulen Novosibirsk und Köln. Schon währ
 end seines Studiums wurde er Preisträger bei wichtigen internationalen We
 ttbewerben. Er ist gefragter Solist in verschiedenen Ensembles und Orches
 tern sowie Studio- und Rundfunkmusiker. Außerdem ist er als Bühnenmusike
 r für Theater\, Musical und Chanson tätig.  www.alexander-pankov.de.\n\
 n&nbsp\;
ATTACH;FMTTYPE=image/jpeg:https://synagoge-ahrweiler.eu/wp-content/uploads
 /2025/05/WortSpiel_MM_Rahmenplakat-scaled.jpg
CATEGORIES:Konzert
END:VEVENT
END:VCALENDAR