BEGIN:VCALENDAR
VERSION:2.0
PRODID:-//wp-events-plugin.com//7.2.3.1//EN
BEGIN:VEVENT
UID:49@synagoge-ahrweiler.eu
DTSTART:20191103T180000Z
DTEND:20191103T180000Z
DTSTAMP:20190802T153045Z
URL:https://synagoge-ahrweiler.eu/events/easy-goin-klezmer-synagoge-verans
 taltung/
SUMMARY:Easy Goin' / Klezmer / Synagoge Veranstaltung
DESCRIPTION:
CATEGORIES:Konzert
END:VEVENT
END:VCALENDAR