BEGIN:VCALENDAR
VERSION:2.0
PRODID:-//wp-events-plugin.com//7.2.3.1//EN
BEGIN:VEVENT
UID:139@synagoge-ahrweiler.eu
DTSTART:20250313T180000Z
DTEND:20250313T200000Z
DTSTAMP:20241106T113726Z
URL:https://synagoge-ahrweiler.eu/events/duo-burstein-legnani-in-ahrweiler
 -musik-fuer-cello-gitarre-klangzauber-aus-orient-und-okzident/
SUMMARY:Duo Burstein & Legnani in Ahrweiler Musik für Cello & Gitarre – 
 Klangzauber aus Orient und Okzident
DESCRIPTION:\n\nAm Donnerstag\, 13. März 2025\, 19 Uhr sind Ariana Burstei
 n (Cello) &amp\; Roberto Legnani (Gitarre) in Bad Neuenahr-Ahrweiler in de
 r Ehemaligen Synagoge Ahrweiler\, Altenbaustraße 12\, zu Gast. Eintrittsk
 arten gibt es an der Abendkasse ab 18:30 Uhr. Weitere Informationen und Ti
 cketreservierung:  www.elegmusic.com.\n\nDie Besucher dürfen sich auf ein
  spannendes Konzert mit magischen Klängen aus dem Morgenland und dem Aben
 dland freuen. Beseelte Melodien\, pulsierende Rhythmen und alte Stilelemen
 te erklingen in einem kunstvoll neuen Gewand. Zu den musikalischen Highlig
 hts gehören eigene Arrangements klassischer Meisterwerke\, u. a. von Isaa
 c Albéniz\, Vittorio Monti\, Manuel De Falla\, Pablo de Sarasate\, sowie 
 Kompositionen von Roberto Legnani. Dargeboten wird formvollendete Musik f
 ür Cello &amp\; Gitarre\, die berührt.\n\nDank der beiden Protagonisten 
 Ariana Burstein &amp\; Roberto Legnani hat sich die ungewöhnlich aparte K
 ombination von Cello und Gitarre im Konzertleben – in einer Zeitspanne v
 on über 25 Jahren – kontinuierlich und prägend etabliert. Das Besonder
 e am Duo Burstein &amp\; Legnani ist die Perfektion im Zusammenspiel und d
 ie Rollenverteilung im wechselseitigen Solistenpart.\n\nIn der Konzertpaus
 e werden CDs der Künstler angeboten.\n
ATTACH;FMTTYPE=image/jpeg:https://synagoge-ahrweiler.eu/wp-content/uploads
 /2024/11/Duo-Ariana-Burstein-Roberto-Legnani-2024.jpg
CATEGORIES:Konzert
END:VEVENT
END:VCALENDAR