BEGIN:VCALENDAR
VERSION:2.0
PRODID:-//wp-events-plugin.com//7.2.3.1//EN
BEGIN:VEVENT
UID:140@synagoge-ahrweiler.eu
DTSTART:20250127T180000Z
DTEND:20250127T200000Z
DTSTAMP:20241203T114202Z
URL:https://synagoge-ahrweiler.eu/events/buchvorstellung-gratwanderungen-e
 rich-kaestner-und-seine-freunde-e-o-plauen-und-erich-knauf/
SUMMARY:BUCHVORSTELLUNG: Gratwanderungen.  Erich Kästner und seine Freunde
  e. o. plauen  und Erich Knauf
DESCRIPTION:\n\nEintritt frei\, Spenden erbeten\n\n„Sie wollten\, mit ein
 em Minimum an Konzessionen\,\ndas braune Reich überdauern. Sie hofften\, 
 es werde\ngutgehen. Es konnte nicht gutgehen\, und es ging nicht\ngut.“\
 n\nErich Kästner\n\nAls sich zu Beginn der Goldenen Zwanziger Jahre der\n
 Dichter Erich Kästner\, der Zeichner Erich Ohser und\nder Redakteur Erich
  Knauf kennenlernten\, begann\ngerade ihr beruflicher Erfolg. Parallel hie
 rzu vollzog sich der Aufstieg des\nNationalsozialismus\, den die drei Freu
 nde mit ihren\nGedichten\, Zeichnungen und Artikeln bekämpften. Das\nNS-
 Regime antwortete ihnen ab 1933 mit offener\nAblehnung\, Ausgrenzung und V
 erfolgung. Anders als viele Kulturschaffende blieben Kästner\, Ohser und 
 Knauf in Deutschland. Sie versuchten\, sich im gleichgeschalteten Kulturap
 parat einen Platz zu\nsichern\, ohne dabei auf die eigene Meinung und subt
 ile Kritik verzichten zu müssen. Am Ende konnten Ohser und Knauf mit ihre
 r Meinung nicht hinter dem Berg halten. Sie wurden denunziert. Nach ihrer 
 Verhaftung und Verhören durch die Gestapo folgte die Anklage vor dem Volk
 sgerichtshof von Roland Freisler. Ohser beging am Tag vor der\nHauptverhan
 dlung Selbstmord\, Knauf wurde zum Tode verurteilt und hingerichtet\, einz
 ig Kästner überlebte das ›Dritte Reich‹.\nDieses Buch skizziert den 
 Lebensweg der drei Freunde und zeichnet gleichzeitig ein düsteres Kapitel
  deutscher Rechtsgeschichte.\n\nDie Journalistin Diana Ivanova (Bad Bodend
 orf) im Gespräch mit dem Autor Jürgen Seul (Ahrweiler)\n\nDiana Ivanova\
 , geboren 1968 in Montana (Bulgarien)\, ist Journalistin\, Autorin und Dok
 umentarfilmerin. Sie wurde mehrfach für ihre journalistische und Filmarbe
 it ausgezeichnet\, darunter mit dem europäischen Journalistenpreis von AP
 A (Wien) 2005 „Writing for Central and Eastern Europe“.\nSeit 2022 ist
  sie Autorin des Podcast „89 Schritte“ über die Menschen im Ahrtal na
 ch der Flutkatastrophe. Sie ist auch Herausgeberin des Buches „Das Ahrta
 l des Mitgefühls. 89 Fragmente aus dem Leben nach der Flut“ (2023).\n\n
 Jürgen Seul\, geboren 1962 in Ahrweiler. Studium der Rechtswissenschaften
 \, Literaturwissenschaften und Geschichte. Er arbeitet als Autor\, Publizi
 st und Dokumentar für verschiedene juristische Fach- und Publikumsverlage
 .\nDer Schwerpunkt seiner wissenschaftlichen Tätigkeit als Rechtshistorik
 er liegt in der Untersuchung der engen Verflechtung von Kunst\, Literatur 
 und Recht. Zu seinen Veröffentlichungen gehören neben „Gratwanderungen
 “ (2024) u.a. „Habt ein besseres Gedächtnis! (2024)\, „Die Akte Ru
 dolf Lebius“ (2019)\, „Wo sind die Buddenbrooks?“ (2010)\, „Old Sh
 atterhand vor Gericht“ (2009)\, und „Ludwig Thoma für Juristen“ (20
 10).\n\n&nbsp\;\n\nEintritt frei\, Spenden erbeten\n\n&nbsp\;
ATTACH;FMTTYPE=image/jpeg:https://synagoge-ahrweiler.eu/wp-content/uploads
 /2024/12/juergen-seul.jpg
CATEGORIES:Lesung
END:VEVENT
END:VCALENDAR