BEGIN:VCALENDAR
VERSION:2.0
PRODID:-//wp-events-plugin.com//7.2.3.1//EN
BEGIN:VEVENT
UID:108@synagoge-ahrweiler.eu
DTSTART:20231203T150000Z
DTEND:20231203T170000Z
DTSTAMP:20231106T100017Z
URL:https://synagoge-ahrweiler.eu/events/benefizkonzert-in-der-ehemaligen-
 synagoge-ahrweiler-zu-gunsten-der-ukrainischen-schuelerin-polina-babych/
SUMMARY:Benefizkonzert in der Ehemaligen Synagoge Ahrweiler zu Gunsten der 
 Ukrainischen Schülerin Polina Babych
DESCRIPTION:Bad Neuenahr-Ahrweiler. Am Sonntag\, den 3. Dezember 2023 16 Uh
 r veranstaltet die in Ahrweiler ansässige Sängerin und Gesangspädagogin
  Alexandra Felizitas Tschida ein Benefizkonzert für ihre Ukrainische Sch
 ülerin Polina Babych. Seit einem Jahr nun erhält die 11 jährige Gesangs
 unterricht von ihr. Zuerst haben die Beiden sich mit Händen und Füßen v
 erständigt\, jetzt spricht Polina schon fließend Deutsch. Doch die Sprac
 he war nie ein Problem für die Zwei\, denn die Liebe zur Musik\, diese un
 iverselle Sprache verbindet sie. Tschida möchte der kleinen Familie etwas
  Gutes tun und hat einige ihrer Schüler für das Konzert engagiert. Es wi
 rd ein tolles Konzert mit klassischen Liedern und Arien\, Melodien aus Ope
 rette\, Musical und Film. An diesem Abend singen Klaus Mommsen\,Heike Kett
 el\, Bettina Lanzerath\, Werner Albrecht\, Anita Schneider und Otto Schmit
 t.\nNatürlich wird auch Polina dabei sein. Begleitet werden die Gesangssc
 hüler von der Pianistin Ilse Kösling. Als special guest wird der Chor be
 lCanto auftreten und das Programm mit seinem Können bereichern. Hans-Albe
 rt Jahn gründete 2009 dieses Vokalensemble\, dass sich durch hohe gesangl
 iche Qualität auszeichnet und die Synagoge mit seinem wunderbaren Klang e
 rfüllen wird.\nDer Einlass beginnt um 15.30 Uhr. Der Eintritt ist natürl
 ich frei\, Spenden sind jedoch erbeten und für die Familie von Polina Bab
 ych bestimmt.
ATTACH;FMTTYPE=image/jpeg:https://synagoge-ahrweiler.eu/wp-content/uploads
 /2023/11/Pressefoto-belCanto-FOTO-belCanto.jpg
CATEGORIES:Konzert
END:VEVENT
END:VCALENDAR