BEGIN:VCALENDAR
VERSION:2.0
PRODID:-//wp-events-plugin.com//7.2.3.1//EN
BEGIN:VEVENT
UID:120@synagoge-ahrweiler.eu
DTSTART:20240608T100000Z
DTEND:20240608T113000Z
DTSTAMP:20240517T125312Z
URL:https://synagoge-ahrweiler.eu/events/benefiz-konzert-rock-pop-in-der-e
 hemaligen-synagoge-ahrweiler-gesangsschueler-von-alexandra-felizitas-tschi
 da-praesentieren-sich/
SUMMARY:Benefiz Konzert: Rock/Pop in der Ehemaligen Synagoge Ahrweiler - Ge
 sangsschüler von Alexandra Felizitas Tschida präsentieren sich
DESCRIPTION:Benefiz Konzert: Rock/Pop in der Ehemaligen Synagoge Ahrweiler\
 nGesangsschüler von Alexandra Felizitas Tschida präsentieren sich\n\nBad
  Neuenahr-Ahrweiler. Am Samstag\, den 8. Juni 2024 wird es musikalisch in 
 der Ehemaligen Synagoge in Ahrweiler: Die Gesangsschüler der in Ahrweiler
  ansässigen Sängerin Alexandra Felizitas Tschida präsentieren sich jewe
 ils um 11.00\, 14.00 und 17.00 Uhr.\nSie singen Aktuelles aus der Rock/Pop
  Welt. Einlass ist jeweils eine halbe Stunde vorher. Der Eintritt ist frei
 \, Spenden sind aber herzlich willkommen. Der Erlös geht an den Afghanisc
 hen Flüchtling Zeki\, der sich über über jede Unterstützung freut.\n\n
ATTACH;FMTTYPE=image/jpeg:https://synagoge-ahrweiler.eu/wp-content/uploads
 /2024/05/Rock-Pop-Benefiz-scaled.jpg
CATEGORIES:Konzert
END:VEVENT
END:VCALENDAR