BEGIN:VCALENDAR
VERSION:2.0
PRODID:-//wp-events-plugin.com//7.2.3.1//EN
BEGIN:VEVENT
UID:119@synagoge-ahrweiler.eu
DTSTART:20240421T100000Z
DTEND:20240421T180000Z
DTSTAMP:20240325T170850Z
URL:https://synagoge-ahrweiler.eu/events/ausstellung-who-you-are-today/
SUMMARY:Ausstellung „WHO you are Today“
DESCRIPTION:\nFoto: Lothar Detert\n\nAm Sonntag\, den 21. April 2024 findet
  in der ehemaligen Synagoge in Ahrweiler eine Veranstaltung unter dem Mott
 o „WHO you are Today“ statt. Die Veranstaltung beinhaltet beeindrucken
 de Portraits und außergewöhnliche Inszenierungen von Lothar Detert\, Fot
 ograf und Betreiber des Hauses der Fotografie und Museums für zeitgenöss
 ische Fotografie in Husum. Ein Teil der Bilder sind in Zusammenarbeit und 
 z.T. durch Inspirationen von Sabine Nußbaum\, Model im Haus der Fotografi
 e und selbstständige Landwirtin in Kalenborn\, im Laufe des letzten Jahre
 s entstanden. Abgerundet wird die Veranstaltung durch die Konzertpianistin
  Maria Heister aus Mahlberg bei Bad Münstereifel\, die die Darstellungen 
 mit ihrer lebendigen Art am Flügel unterlegt. Eine Idee\, die Sabine Nuß
 baum schon länger beschäftigt\, ist eine kombinierte Ausstellung aus Kun
 st und Musik\, die von Lothar Detert und Maria Heister mit Begeisterung au
 fgegriffen wurde und mitgestaltet wird. Der Tag wird vom SWR Fernsehen im 
 Rahmen eines Portraitfilms über Sabine Nußbaum aufgezeichnet. Es wird zw
 ei Aufführungen im Rahmen dieser Veranstaltung geben\, die erste um 11:00
  Uhr und die zweite um 19:00 Uhr mit einem geschätzten Zeitrahmen von 1\,
 5-2 Stunden. Der Eintritt ist frei. Spenden zur Kostendeckung werden gerne
  entgegengenommen. Wir freuen uns über Ihr Interesse an unserem neuen Pro
 jekt und der neuen Art der künstlerischen Begegnung und sind gespannt auf
  einen regen Austausch mit Ihnen.\n
ATTACH;FMTTYPE=image/jpeg:https://synagoge-ahrweiler.eu/wp-content/uploads
 /2024/03/who-are-you-today-flyer-Kopie.jpg
CATEGORIES:Austellung
END:VEVENT
END:VCALENDAR