BEGIN:VCALENDAR
VERSION:2.0
PRODID:-//wp-events-plugin.com//7.2.3.1//EN
BEGIN:VEVENT
UID:100@synagoge-ahrweiler.eu
DTSTART;VALUE=DATE:20230929
DTEND;VALUE=DATE:20231004
DTSTAMP:20230407T092501Z
URL:https://synagoge-ahrweiler.eu/events/are-gilde-8-jahrzehnte-kulturarbe
 it/
SUMMARY:Are Gilde – 8 Jahrzehnte Kulturarbeit
DESCRIPTION:Seit 80 Jahren haben Kunstschaffende des Ahrtals eine Heimat in
  der Are Gilde gefunden. Dieser langen und positiven Vereinsgeschichte ged
 enkend wird eine Gedächtnisausstellung gestaltet. Hierzu finden die heuti
 gen Mitglieder sich in der Ehemaligen Synagoge Ahrweiler ein\, um die Besu
 cher mit der beeindruckenden Kulturarbeit der verstorbenen Künstler*innen
  der Jahre 1941 bis 2023 bekannt machen. Ahrweiler als Wiege der Are-\nKü
 nstlergilde\, der Ahrkreis und alle Interessierten werden über das kultur
 elle Erbe staunen untermalt von kurzen “Histörchen“ zu den Bildwerken
 . Herzliche Einladung zu einem beeindruckenden Event vom 29.9. bis einschl
 . 3.10.2023 ! Vernissage 29.9.2023 um 17.30 Uhr in der Ehemaligen Synagoge
  Ahrweiler\,Altenbaustr. 12a\n\n
ATTACH;FMTTYPE=image/jpeg:https://synagoge-ahrweiler.eu/wp-content/uploads
 /2015/02/arelogo-fertig-Pfad-5258a9a8.jpg
CATEGORIES:Austellung
END:VEVENT
END:VCALENDAR