BEGIN:VCALENDAR
VERSION:2.0
PRODID:-//wp-events-plugin.com//7.2.3.1//EN
BEGIN:VEVENT
UID:64@synagoge-ahrweiler.eu
DTSTART;VALUE=DATE:20200311
DTEND;VALUE=DATE:20200312
DTSTAMP:20191219T075323Z
URL:https://synagoge-ahrweiler.eu/events/ahrtalforum/
SUMMARY:Ahrtalforum
DESCRIPTION:
END:VEVENT
END:VCALENDAR