BEGIN:VCALENDAR
VERSION:2.0
PRODID:-//wp-events-plugin.com//7.2.3.1//EN
BEGIN:VEVENT
UID:111@synagoge-ahrweiler.eu
DTSTART:20231202T080000Z
DTEND:20231202T160000Z
DTSTAMP:20231125T162358Z
URL:https://synagoge-ahrweiler.eu/events/adventsbasar-fuer-die-flutopfer-i
 n-der-alten-synagoge-in-ahrweiler-die-lions-clubs-aus-bad-neuenahr-und-kem
 pten-allgaeu-verschenken-gemaelde-krippen-und-puppenstuben/
SUMMARY:Adventsbasar für die Flutopfer in der Alten Synagoge in Ahrweiler 
 Die Lions Clubs aus Bad Neuenahr und Kempten (Allgäu) verschenken Gemäld
 e\, Krippen und Puppenstuben
DESCRIPTION:Viele Familien im Ahrtal stehen auch zwei Jahre nach der Flutka
 tastrophe immer noch vor einer ungewissen Zukunft. Sie haben oft viel von 
 ihrer persönlichen Habe verloren. Rechtzeitig zum Beginn der Adventszeit 
 wollen die Lions Clubs Bad Neuenahr und Kempten (Allgäu) Licht in die Woh
 nhäuser bringen. Auf Initiative von Gerhard Keim sammelten die Lions in K
 empten in diesem Jahr rund 40 Krippen ein\, die zusammen mit sechs Puppens
 tuben und fünf Umzugskartons voll Christbaumschmuck vom Allgäu nach Bad 
 Neuenahr-Ahrweiler gebracht werden. „Wir haben hier auch zwölf Krippen 
 dabei\, die von Schülerinnen der Maria-Ward-Schule gebastelt wurden“\, 
 sagt Keim\, der zusammen mit Lions-Präsident Dr. Joachim Löffeler und de
 ssen Frau Tina an die Ahr reist. Edwin Dallmayr von den Krippenfreunden Di
 etmannsried steuerte insgesamt 14 Krippen für die Hilfsaktion bei. Die Kr
 ippen werden zusammen mit 200 Bildern und Gemälden bei einem Adventsbasar
  in Bad Neuenahr-Ahrweiler mit Hilfe des Lions-Club Bad Neuenahr an Flutop
 fer verteilt. Eine Vorlage der Betroffenheits-bescheinigung ist hierbei er
 forderlich. Die Lions aus Kempten hatten bereits vor einem Jahr 300 Gemäl
 de\, Bilder und Fotografien gerahmt und mit dem LC Bad Neuenahr an betroff
 ene Familien verschenkt. Diesmal werden die Spenden aus dem Allgäu am Sam
 stag\, 2. Dezember\, von 9 bis 17 Uhr in der Alten Synagoge Ahrweiler in d
 er Altenbaustraße 12a verteilt. Die Bilder-Spenden für Flutopfer im Ahrt
 al sammelt der Lions Club Kempten auch im Jahr 2024 ein\, Ansprechpartner 
 ist Gerhard Keim (Mail: gerhard.klaus.keim@web.de).\n\n\n[caption id="atta
 chment_3200" align="alignnone" width="584"] Kempten Lions Club Kempten - G
 erhard Keim - Hilfe für Ahrtal-Opfer[/caption]
ATTACH;FMTTYPE=image/jpeg:https://synagoge-ahrweiler.eu/wp-content/uploads
 /2023/11/Organisator-Gerhard-Keim-scaled.jpg
CATEGORIES:Austellung
END:VEVENT
END:VCALENDAR